BEGIN:VCALENDAR
VERSION:2.0
PRODID:-//Association humaniste du Québec - ECPv6.15.17//NONSGML v1.0//EN
CALSCALE:GREGORIAN
METHOD:PUBLISH
X-WR-CALNAME:Association humaniste du Québec
X-ORIGINAL-URL:https://assohum.org
X-WR-CALDESC:Évènements pour Association humaniste du Québec
REFRESH-INTERVAL;VALUE=DURATION:PT1H
X-Robots-Tag:noindex
X-PUBLISHED-TTL:PT1H
BEGIN:VTIMEZONE
TZID:America/New_York
BEGIN:DAYLIGHT
TZOFFSETFROM:-0500
TZOFFSETTO:-0400
TZNAME:EDT
DTSTART:20210314T070000
END:DAYLIGHT
BEGIN:STANDARD
TZOFFSETFROM:-0400
TZOFFSETTO:-0500
TZNAME:EST
DTSTART:20211107T060000
END:STANDARD
BEGIN:DAYLIGHT
TZOFFSETFROM:-0500
TZOFFSETTO:-0400
TZNAME:EDT
DTSTART:20220313T070000
END:DAYLIGHT
BEGIN:STANDARD
TZOFFSETFROM:-0400
TZOFFSETTO:-0500
TZNAME:EST
DTSTART:20221106T060000
END:STANDARD
BEGIN:DAYLIGHT
TZOFFSETFROM:-0500
TZOFFSETTO:-0400
TZNAME:EDT
DTSTART:20230312T070000
END:DAYLIGHT
BEGIN:STANDARD
TZOFFSETFROM:-0400
TZOFFSETTO:-0500
TZNAME:EST
DTSTART:20231105T060000
END:STANDARD
END:VTIMEZONE
BEGIN:VEVENT
DTSTART;TZID=America/New_York:20220901T190000
DTEND;TZID=America/New_York:20220901T213000
DTSTAMP:20260423T235052
CREATED:20220826T024845Z
LAST-MODIFIED:20220826T042443Z
UID:21046-1662058800-1662067800@assohum.org
SUMMARY:Ciné-club : Luther
DESCRIPTION:« Luther est un film germano-américain réalisé par Eric Till et sorti en 2003. Le scénario est basé sur la vie du réformateur protestant Martin Luther. C’est un film indépendant\, partiellement financé par des luthériens..» (Wikipedia). \nPas facile de trouver des films qui nous montrent les grandes figures des religions ET qui ne soient pas influencés par les croyants de ces mêmes religions! Mais on n’a pas toujours le choix…Le film que je vous propose ici est somptueux et les principaux acteurs crédibles (Peter Ustinof en  Fredéric le Sage\, premier prince à devenir Protestant\, est tout à fait convaincant). Il vous fera vivre les moments charnières de la Réforme protestante à Wittenberg\, à Worms\, à Augsbourg\, alors que les idées de Luther commencent à influencer les politiques des princes du Saint-Empire Romain Germanique. \nLe 31 octobre 1517\, Martin Luther publie ses 95 thèses contre les Indulgences\, c’est l’origine du schisme dans l’Église\, qui donne naissance à la Réforme. Le film décrit avec beaucoup de détails l’exploitation de la misère humaine par non seulement le clergé\, mais également par les princes. \nA ma connaissance il n’existe pas de version du film doublé en français. De plus il n’y a pas non plus de sous-titres français officiels de ce film. Les sous-titres français obtenus sur Internet se sont révélés de trop piètre qualité pour être conservés. Toutefois les sous-titres anglais sont de qualité et très lisibles. Nous projeterons donc le film dans sa version originale en anglais avec sous-titres anglais. \n\n\nQuand ? Le jeudi 1er septembre .  \nOù ? Au centre humaniste de Montréal\, (Le film ne sera pas diffusé sur Zoom) \nOuverture de la salle à 18:30. La projection du film d’une durée de 2h04mn commencera à 19h00. Le film sera projeté en anglais avec sous-titres anglais et suivie d’une discussion. \nCHANGEMENT IMPORTANT : L’entrée est désormais à 8$ pour les membres AHQ et 13$ pour les non-membres en autant que vous ayez réservé en payant votre billet ici: Compte Paypal ou carte de crédit via Paypal. Indiquez la date de l’événement dans la fiche Paypal. \nVous pouvez devenir membre sur place (25 $ par an) ou par Paypal sur notre site web. \nRéservation : (Svp avant le 1er septembre à midi) Vous devez réserver à reservation@assohum.org (sans accent). Si vous vous présentez sans réservation le soir même\, les entrées sont désormais à 10$ (membre) et 15$ (non-membre)\, et offertes dans la limite des places disponibles. Notre registraire\, Pierre Cloutier\, vous enverra une confirmation. Vérifiez vos courriels\, y compris votre dossier « spam ». \nVous aimeriez venir avec une personne qui n’a pas reçu cette invitation ? Veuillez nous fournir son nom et son adresse courriel pour nous permettre de lui en faire parvenir une. \nUn don\, même minime\, est la preuve indiscutable que vous appréciez ce que nous faisons et nous encourage à continuer.    Faire un DON à L’AHQ \nAu plaisir de  vous y rencontrer\, \nMichel Virard\, coordinateur des soirées ciné-club \ninfo@assohum.org – 514 333-5560
URL:https://assohum.org/activites/cine-club-luther/
LOCATION:Centre humaniste du Québec\, 1225 St-Joseph est\, Montréal\, Québec\, H2J 2L7\, Canada
CATEGORIES:Ciné-Club
ATTACH;FMTTYPE=image/jpeg:https://assohum.org/wp-content/uploads/2022/08/Luther-devant-la-diete-de-Worms.jpg
END:VEVENT
END:VCALENDAR