BEGIN:VCALENDAR
VERSION:2.0
PRODID:-//Association humaniste du Québec - ECPv6.15.17//NONSGML v1.0//EN
CALSCALE:GREGORIAN
METHOD:PUBLISH
X-WR-CALNAME:Association humaniste du Québec
X-ORIGINAL-URL:https://assohum.org
X-WR-CALDESC:Évènements pour Association humaniste du Québec
REFRESH-INTERVAL;VALUE=DURATION:PT1H
X-Robots-Tag:noindex
X-PUBLISHED-TTL:PT1H
BEGIN:VTIMEZONE
TZID:America/New_York
BEGIN:DAYLIGHT
TZOFFSETFROM:-0500
TZOFFSETTO:-0400
TZNAME:EDT
DTSTART:20200308T070000
END:DAYLIGHT
BEGIN:STANDARD
TZOFFSETFROM:-0400
TZOFFSETTO:-0500
TZNAME:EST
DTSTART:20201101T060000
END:STANDARD
BEGIN:DAYLIGHT
TZOFFSETFROM:-0500
TZOFFSETTO:-0400
TZNAME:EDT
DTSTART:20210314T070000
END:DAYLIGHT
BEGIN:STANDARD
TZOFFSETFROM:-0400
TZOFFSETTO:-0500
TZNAME:EST
DTSTART:20211107T060000
END:STANDARD
BEGIN:DAYLIGHT
TZOFFSETFROM:-0500
TZOFFSETTO:-0400
TZNAME:EDT
DTSTART:20220313T070000
END:DAYLIGHT
BEGIN:STANDARD
TZOFFSETFROM:-0400
TZOFFSETTO:-0500
TZNAME:EST
DTSTART:20221106T060000
END:STANDARD
END:VTIMEZONE
BEGIN:VEVENT
DTSTART;TZID=America/New_York:20210506T190000
DTEND;TZID=America/New_York:20210506T210000
DTSTAMP:20260424T052413
CREATED:20210501T160841Z
LAST-MODIFIED:20210507T014840Z
UID:18803-1620327600-1620334800@assohum.org
SUMMARY:Ciné-club: Boy Erased
DESCRIPTION:Boy Erased (ou Garçon effacé au Québec) est un film dramatique américain écrit et réalisé par Joel Edgerton\, sorti en 2018. \nIl s’agit de l’adaptation des mémoires Boy Erased: A Memoir de Garrard Conley (2016). Le film a été acclamé par la critique\, récoltant des notes élogieuses allant de 89% sur Rotten Tomatoes\, jusqu’à 95% sur PostTrak. I a reçu plusieurs prix de l’Australian Academy of Cinema & Televion Arts (Nicole Kidman y a reçu le prix du meilleur second rôle et Joel Edgerton celui du meilleur scénario adapté) \nJared Eamons\, dix-neuf ans\, vit dans une petite ville avec ses parents dont le père est un pasteur baptiste. Lorsqu’il leur annonce son homosexualité\, le jeune homme se voit obligé de suivre une thérapie de conversion censée le rendre hétérosexuel. Abandonné et ignoré par ses amis\, gardant un contact avec sa mère\, il finira par affronter son « thérapeute »… \nOù ? Ce film de 1h55m sera projeté dans une session Zoom AHQ via Internet. Ce film américain sera projeté en version française. \nQuand ? Le jeudi 6 mai. Ouverture de la «salle» Zoom à 19h. La projection du film commencera à 19h15. \nQuestions: Comme toujours il y aura une période de question après le film. Utilisez la fonction «lever la main»  pour signaler que vous voulez poser une question. Vous pouvez aussi utiliser Alt+Y sur un PC ou Option+Y sur un Mac pour lever ou baisser la main. \nSilence: Pendant la projection vos micros seront fermés mais vous pourrez utiliser le panneau de conversation («chat») pour me passer un message discret. \nRéservation: Sauf avis contraire\, le ciné-club est réservé aux membres en règle de l’AHQ. Néanmoins vous devez réserver à reservation@assohum.org (sans accent). Notre registraire\, Pierre Cloutier\, vous enverra une confirmation avec un lien vers la session Zoom au plus tard le jour de la projection. Vérifiez vos courriels (y compris votre dossier «spam»). Ne passez surtout pas votre confirmation avec le lien à une autre personne ! Sur Zoom nous vous recommandons d’utiliser votre véritable nom (celui associé à votre adresse courriel) car si nous ne pouvons vous reconnaître\, vous ne pourrez pas assister à la projection. \nMichel Virard\, coordinateur ciné-club \nPetit rappel: ce ciné-club est gratuit mais les frais pour créer un événement sont bien réels et non virtuels. L’AHQ fonctionne uniquement avec des bénévoles et tout l’argent recueilli va à la programmation de conférences\, de ciné-clubs et de publications humanistes. \nUn don\, même minime\, est la preuve indiscutable que vous appréciez ce que nous faisons et nous encourage à continuer. \nFaire un don
URL:https://assohum.org/activites/cine-club-boy-erased/
LOCATION:Via Zoom
CATEGORIES:Ciné-Club
ATTACH;FMTTYPE=image/png:https://assohum.org/wp-content/uploads/2021/05/BoyErased-cover.png
END:VEVENT
END:VCALENDAR