BEGIN:VCALENDAR
VERSION:2.0
PRODID:-//Association humaniste du Québec - ECPv6.15.17//NONSGML v1.0//EN
CALSCALE:GREGORIAN
METHOD:PUBLISH
X-WR-CALNAME:Association humaniste du Québec
X-ORIGINAL-URL:https://assohum.org
X-WR-CALDESC:Évènements pour Association humaniste du Québec
REFRESH-INTERVAL;VALUE=DURATION:PT1H
X-Robots-Tag:noindex
X-PUBLISHED-TTL:PT1H
BEGIN:VTIMEZONE
TZID:America/New_York
BEGIN:DAYLIGHT
TZOFFSETFROM:-0500
TZOFFSETTO:-0400
TZNAME:EDT
DTSTART:20250309T070000
END:DAYLIGHT
BEGIN:STANDARD
TZOFFSETFROM:-0400
TZOFFSETTO:-0500
TZNAME:EST
DTSTART:20251102T060000
END:STANDARD
BEGIN:DAYLIGHT
TZOFFSETFROM:-0500
TZOFFSETTO:-0400
TZNAME:EDT
DTSTART:20260308T070000
END:DAYLIGHT
BEGIN:STANDARD
TZOFFSETFROM:-0400
TZOFFSETTO:-0500
TZNAME:EST
DTSTART:20261101T060000
END:STANDARD
BEGIN:DAYLIGHT
TZOFFSETFROM:-0500
TZOFFSETTO:-0400
TZNAME:EDT
DTSTART:20270314T070000
END:DAYLIGHT
BEGIN:STANDARD
TZOFFSETFROM:-0400
TZOFFSETTO:-0500
TZNAME:EST
DTSTART:20271107T060000
END:STANDARD
END:VTIMEZONE
BEGIN:VEVENT
DTSTART;TZID=America/New_York:20260402T190000
DTEND;TZID=America/New_York:20260402T210000
DTSTAMP:20260420T151045
CREATED:20260327T204909Z
LAST-MODIFIED:20260328T200829Z
UID:24635-1775156400-1775163600@assohum.org
SUMMARY:Visiteur de Humanist-International.
DESCRIPTION:Humanist International nous rend visite\nGary McLelland\,le directeur exécutif de H.I. sera au Centre humaniste du Québec le 2 avril 2026\nL’Association humaniste du Québec est membre votant de Humanist International (H.I.) presque depuis sa création. Il nous fait plaisir d’accueillir Gary dans nos murs. Gary fera une courte présentation sur les activités d’Humanistes international et sur la conférence humaniste du mois d’août prochain à Ottawa. Il sera disponible pour répondre aux questions des participants. Une fois n’est pas coutume : noter que la présentation et la période de questions se feront en anglais. \n  \n  \n\n			\n			\n				\n				\n				\n				\n			\n				\n				\n				\n				\n				\n				\n				\n				\n				\n				\n				\n			\n			\n				\n				\n				\n				\n				\n				\n				\n				\n				\n				 \nGary McLelland:\nGary a rejoint Humanists International en février 2017. Avant cela\, il a travaillé pour la Humanist Society Scotland depuis 2013 en tant que responsable de la communication et des affaires publiques. Il a également été membre du conseil d’administration de la Fédération humaniste européenne basée à Bruxelles\, ainsi que membre du conseil d’administration du Comité mixte écossais sur l’éducation religieuse et morale (…).\n \nIl est titulaire d’un BSc (hons) en psychologie\, d’un diplôme en études de l’enfance et de la jeunesse et d’une maîtrise en droit des droits de l’homme\, dans le cadre desquels il a étudié l’approche de la Cour européenne des droits de l’homme et l’approche des Nations Unies à l’égard des « lois sur le blasphème ».\n			\n				\n				\n				\n				\n				Où ? Au Centre humaniste du Québec\, 1225 boulevard St-Joseph Est\, salle 101. \nQuand ? Le jeudi 2 avril à 19h.  Les portes seront ouvertes à 18h30. Comme d’habitude\, il y aura une période de discussion. \n			\n			\n				\n				\n				\n				\n			\n				\n				\n				\n				\n				\n				\n				\n				\n				\n				\n				Cette conférence se tiendra en présentiel au Centre humaniste et sur Internet via Zoom. L’événement est gratuit\, toutefois un don est toujours apprécié. Que vous soyez présent où à distance  vous pouvez faire un don par Internet en cliquant sur le lien ci-dessous et payer par carte de crédit ou compte PayPal. Dans tous les cas\, SVP\, réservez votre place par un courriel à reservation@assohum.org et précisez si vous serez présent ou à distance. Merci de votre aide. \n\n			\n			\n				\n				\n				\n				\n			\n				\n				\n				\n				\n				\n				\n				\n				\n				\n				\n				IMPORTANT : Vous aimeriez venir avec une personne qui n’a pas reçu cette invitation ? Passez lui le lien de cette page. Vous pouvez devenir membre sur place (25 $ par an) ou par Paypal sur notre site web. \nAu plaisir de vous y rencontrer\, \nMichel Virard\, coordinateur ciné-club et conférences \nL’AHQ fonctionne uniquement avec des bénévoles et tout l’argent recueilli va à la programmation de conférences\, de ciné-clubs et de publications humanistes. Un don\, même minime\, est la preuve indiscutable que vous appréciez ce que nous faisons et nous encourage non seulement à continuer mais à concevoir de nouvelles façons de rejoindre nos amis humanistes. \n(Notez que l’AHQ émet des reçus de charité pour les dons dont la somme annuelle égale ou dépasse 35 $) \n			\n				Faire un don
URL:https://assohum.org/activites/visiteur-de-humanist-international/
LOCATION:CHQ + Zoom\, 101-1225 boulevard St-Joseph Est\, Montreal\, Québec\, H2J1L7\, Canada
CATEGORIES:Conférences,Événement hybride,visite humaniste
END:VEVENT
END:VCALENDAR