BEGIN:VCALENDAR
VERSION:2.0
PRODID:-//Association humaniste du Québec - ECPv6.15.17//NONSGML v1.0//EN
CALSCALE:GREGORIAN
METHOD:PUBLISH
X-WR-CALNAME:Association humaniste du Québec
X-ORIGINAL-URL:https://assohum.org
X-WR-CALDESC:Évènements pour Association humaniste du Québec
REFRESH-INTERVAL;VALUE=DURATION:PT1H
X-Robots-Tag:noindex
X-PUBLISHED-TTL:PT1H
BEGIN:VTIMEZONE
TZID:America/New_York
BEGIN:DAYLIGHT
TZOFFSETFROM:-0500
TZOFFSETTO:-0400
TZNAME:EDT
DTSTART:20220313T070000
END:DAYLIGHT
BEGIN:STANDARD
TZOFFSETFROM:-0400
TZOFFSETTO:-0500
TZNAME:EST
DTSTART:20221106T060000
END:STANDARD
BEGIN:DAYLIGHT
TZOFFSETFROM:-0500
TZOFFSETTO:-0400
TZNAME:EDT
DTSTART:20230312T070000
END:DAYLIGHT
BEGIN:STANDARD
TZOFFSETFROM:-0400
TZOFFSETTO:-0500
TZNAME:EST
DTSTART:20231105T060000
END:STANDARD
BEGIN:DAYLIGHT
TZOFFSETFROM:-0500
TZOFFSETTO:-0400
TZNAME:EDT
DTSTART:20240310T070000
END:DAYLIGHT
BEGIN:STANDARD
TZOFFSETFROM:-0400
TZOFFSETTO:-0500
TZNAME:EST
DTSTART:20241103T060000
END:STANDARD
END:VTIMEZONE
BEGIN:VEVENT
DTSTART;TZID=America/New_York:20231214T190000
DTEND;TZID=America/New_York:20231214T210000
DTSTAMP:20260422T081856
CREATED:20231206T214248Z
LAST-MODIFIED:20231206T221406Z
UID:22799-1702580400-1702587600@assohum.org
SUMMARY:Conférence Romain Gagnon
DESCRIPTION:Par Romain Gagnon\nIl s’agit d’une explication biologique de l’homosexualité et la démonstration que l’idéologie du genre est non fondée scientifiquement. Qui plus est\, elle est sournoisement homophobe. Bref\, c’est la fracture du mouvement LGBTQIA2S+… \n			\n				\n				\n				\n				\n				\n			\n			\n				\n				\n				\n				\n			\n				\n				\n				\n				\n				\n				\n				\n				\n				\n				\n				\n			\n				\n				\n				\n				\n				\n			\n			\n				\n				\n				\n				\n				\n				\n				\n				\n				\n				Romain Gagnon (ing.) a débuté sa carrière littéraire avec la publication de Vivre mince\, gourmand et en santé\, en 2004\, remettant en cause les idées reçues en matière de nutrition. En 2019\, il publie Et l’homme créa Dieu à son image\, condamnant le dogmatisme religieux. En 2022\, il dénonce les délires idéologiques à la mode dans Vers l’abrutissement de l’espèce humaine. Avec La biologie de l’Amour\, en septembre 2023\, il touche un sujet délicat mais oh combien important pour Homo Sapiens : l’amour conjugal et toutes ses variantes. \n			\n				\n				\n				\n				\n				\n\n\n\n\n\nOù ? Au Centre humaniste du Québec\, 1225 boulevard St-Joseph Est\, salle 101. \nQuand ? Le jeudi 14 décembre  2023 à partir de 19h.  Les portes seront ouvertes à 18h 30. Les nouvelles humanistes seront présentées de 19h à 19h15. La conférence commencera à 19h15. Comme d’habitude\, il y aura une période de discussion. \n\n\n\n\n\n\n			\n			\n				\n				\n				\n				\n			\n				\n				\n				\n				\n				\n				\n				\n				\n				\n				\n				Cette conférence se tiendra simultanément en présentiel au Centre humaniste et sur Internet via Zoom. il faudra payer l’entrée sur place ou à distance par carte de crédit/PayPal par Internet avant  jeudi 14 décembre à midi. Dans ce dernier cas veuillez aussi envoyer un courriel à reservation@assohum.org (pas d’accent sur «reservation») et indiquer dans le champs sujet «par Zoom» si vous assisterez à distance\, afin que nous puissions vous envoyer le lien Zoom. \nFrais de participation (en présentiel et via Zoom) : 8$ membre\, 13$ non-membre. \n			\n			\n				\n				\n				\n				\n			\n				\n				\n				\n				\n				\n				\n				\n				\n				\n				\n				\n      \n        \n          Tarif Membre 8$  \n          Tarif membre 8$ - 8 CADTarif non-membre 13$ - 13 CAD\n          \n        \n      \n      \n    \n    \n    \n			\n			\n				\n				\n				\n				\n				\n				\n				\n				\n				\n				Si vous avez un compte Paypal\, utilisez le bouton jaune\, sinon utilisez le bouton noir « Débit ou crédit ». \n  \n			\n			\n				\n				\n				\n				\n			\n				\n				\n				\n				\n				\n				\n				\n				\n				\n				\n				SPÉCIAL DE L’AUTEUR ! tous ceux qui s’inscrivent à la conférence (Zoom ou présentiel) reçoivent à l’avance la version électronique du livre (pdf et epub). Ceux qui assisteront en présentiel pourront acheter ce livre sur place au prix de l’impression (soit 5$). \nSous réserve d’un comportement respectueux envers le conférencier et l’audience\, les 18 à 25 ans sont admis gratuitement au Centre humaniste du Québec. Réservation impérativement requise via courriel à reservation@assohum.org (pas d’accent sur «reservation»). Noter que la conférence sera enregistrée en vidéo.  \nIMPORTANT : Vous aimeriez venir avec une personne qui n’a pas reçu cette invitation ? Passez lui le lien de cette page. Vous pouvez devenir membre sur place (25 $ par an) ou par Paypal sur notre site web. \nAu plaisir de vous y rencontrer\, \nMichel Virard\, coordinateur ciné-club et conférences \nL’AHQ fonctionne uniquement avec des bénévoles et tout l’argent recueilli va à la programmation de conférences\, de ciné-clubs et de publications humanistes. Un don\, même minime\, est la preuve indiscutable que vous appréciez ce que nous faisons et nous encourage non seulement à continuer mais à concevoir de nouvelles façons de rejoindre nos amis humanistes. \n(Notez que l’AHQ émet des reçus de charité pour les dons dont la somme annuelle égale ou dépasse 35 $) \n  \n			\n				Faire un don
URL:https://assohum.org/activites/conference-romain-gagnon/
LOCATION:CHQ + Zoom\, 101-1225 boulevard St-Joseph Est\, Montreal\, Québec\, H2J1L7\, Canada
CATEGORIES:Conférences,Lancement de livre
ATTACH;FMTTYPE=image/jpeg:https://assohum.org/wp-content/uploads/2023/12/Partie-droite-SnipImage-1.jpg
END:VEVENT
END:VCALENDAR