BEGIN:VCALENDAR
VERSION:2.0
PRODID:-//Association humaniste du Québec - ECPv6.15.17//NONSGML v1.0//EN
CALSCALE:GREGORIAN
METHOD:PUBLISH
X-ORIGINAL-URL:https://assohum.org
X-WR-CALDESC:Évènements pour Association humaniste du Québec
REFRESH-INTERVAL;VALUE=DURATION:PT1H
X-Robots-Tag:noindex
X-PUBLISHED-TTL:PT1H
BEGIN:VTIMEZONE
TZID:America/New_York
BEGIN:DAYLIGHT
TZOFFSETFROM:-0500
TZOFFSETTO:-0400
TZNAME:EDT
DTSTART:20230312T070000
END:DAYLIGHT
BEGIN:STANDARD
TZOFFSETFROM:-0400
TZOFFSETTO:-0500
TZNAME:EST
DTSTART:20231105T060000
END:STANDARD
BEGIN:DAYLIGHT
TZOFFSETFROM:-0500
TZOFFSETTO:-0400
TZNAME:EDT
DTSTART:20240310T070000
END:DAYLIGHT
BEGIN:STANDARD
TZOFFSETFROM:-0400
TZOFFSETTO:-0500
TZNAME:EST
DTSTART:20241103T060000
END:STANDARD
BEGIN:DAYLIGHT
TZOFFSETFROM:-0500
TZOFFSETTO:-0400
TZNAME:EDT
DTSTART:20250309T070000
END:DAYLIGHT
BEGIN:STANDARD
TZOFFSETFROM:-0400
TZOFFSETTO:-0500
TZNAME:EST
DTSTART:20251102T060000
END:STANDARD
END:VTIMEZONE
BEGIN:VEVENT
DTSTART;TZID=America/New_York:20241205T190000
DTEND;TZID=America/New_York:20241205T210000
DTSTAMP:20260421T132657
CREATED:20241129T234434Z
LAST-MODIFIED:20241129T234438Z
UID:23725-1733425200-1733432400@assohum.org
SUMMARY:Ciné-conférence: Le Compromis de 1905
DESCRIPTION:Histoire de la Laïcité en France\nDeuxième partie : \n– conférence : de 1940 à nos jours et\n– film sur le compromis historique de 1905\nPour ceux qui n’ont pu assister à la première partie de «Histoire de la Laïcité en France» nous avons mis en ligne la totalité de la conférence du 21 novembre. Elle est disponible ici: \nhttps://youtu.be/tFiIHIqZHX0?si=Jpe2IaPBsL_Ry0EW \nLe jeudi 5 décembre\, je vous propose une courte conférence (20 minutes) sur les principaux événements de la période 1940 – 2024 . Je présenterai ensuite un film hors du commun. Il s’agit de la reconstitution des débats qui ont eu lieu à l’Assemblée nationale des Français en 1905. De fait\, les débats ayant été dûment enregistrés par les greffiers de l’époque\, il a été possible de reconstruire le déroulement fidèle des points saillants de ces débats. C’est l’Assemblée nationale elle-même qui a eu\, en 2005\, cette idée géniale dont nous pouvons profiter aujourd’hui.  Et les choses ne sont pas faites à moitié : les principaux intervenants de 1905 sont interprétés par une brochette d’acteurs qui ferait certainement pâlir d’envie bien des réalisateurs. \n\nPierre Arditi : Aristide Briand\, le rapporteur de la Commission\nMichael Lonsdale : Paul Doumer\, le président de la Chambre\nClaude Rich : l’Abbé Gayraud\nJean-Claude Drouot : Jean Jaurès\nJacques Gallo : le comte Armand de Baudry d’Asson\nPierre Santini : Maurice Allard\n\n\nEt\, ce qui ne gâche rien\, le véritable hémicycle du Palais Bourbon a servi de décor au film. \nVous voulez savoir comment «nait» une loi de séparation des Églises et de l’État ? C’est le film à voir. \n\n  \n			\n			\n				\n				\n				\n				\n			\n				\n				\n				\n				\n				\n				\n				\n				\n				\n				\n				\n			\n				\n				\n				\n				\n				Aristide Briand\, rapporteur de la loi de 1905 sur la séparation des Églises et de l’État. \nOù ? Au Centre humaniste du Québec\, 1225 boulevard St-Joseph Est\, salle 101 et sur Internet via Zoom. \nQuand ? Le jeudi 5 décembre 2024 à partir de 19h.  Les portes seront ouvertes à 18h 30. . Attention: la conférence de 20 minutes commencera à 19h00\, elle sera suivie de la projection du film pour 1h20m. Comme d’habitude\, il y aura une période de discussion. \n			\n			\n				\n				\n				\n				\n				\n				\n				\n				\n				\n				 \nJe suis ingénieur retraité. J’ai cofondé trois organisations sans but lucratif\, toujours en fonctionnement: un CPE (Les Copains d’abord de Montréal en 1980)\, l’Association humaniste du Québec (AHQ) en 2005 et le New Enlightenment Project (NEP) en 2021. J’étais à la tête de l’AHQ quand nous avons lancé\, en 2009\, une campagne d’autobus retentissante\, celle des autobus «athées». \n  \n			\n				\n				\n				\n				\n				 \n			\n			\n				\n				\n				\n				\n			\n				\n				\n				\n				\n				\n				\n				\n				\n				\n				\n				Cette conférence se tiendra en présentiel au Centre humaniste et sur Internet via Zoom. Que vous soyez présent où à distance il vous faudra payer l’entrée sur place ou à distance par carte de crédit/PayPal par Internet avant  jeudi 5 décembre à midi. Dans tous les cas\, SVP\, réservez votre place par un courriel à reservation@assohum.org et précisez si vous serez présent. Merci de votre aide. \nFrais de participation (en présence ou à distance) : 8$ membre\, 13$ non-membre. \n			\n			\n				\n				\n				\n				\n			\n				\n				\n				\n				\n				\n				\n				\n				\n				\n				\n				\n      \n                  \n          Tarif membre 8$Tarif non-membre 13$\n          \n        \n      \n      \n    \n    \n    \n			\n			\n				\n				\n				\n				\n				\n				\n				\n				\n				\n				Si vous avez un compte Paypal\, utilisez le bouton jaune\, sinon utilisez le bouton noir « Débit ou crédit ». \n  \n			\n			\n				\n				\n				\n				\n			\n				\n				\n				\n				\n				\n				\n				\n				\n				\n				\n				Sous réserve d’un comportement respectueux envers le conférencier et l’audience\, les 18 à 25 ans sont admis gratuitement au Centre humaniste du Québec. Réservation impérativement requise via courriel à reservation@assohum.org (pas d’accent sur «reservation»).  \nIMPORTANT : Vous aimeriez venir avec une personne qui n’a pas reçu cette invitation ? Passez lui le lien de cette page. Vous pouvez devenir membre sur place (25 $ par an) ou par Paypal sur notre site web. \nAu plaisir de vous y rencontrer\, \nMichel Virard\, coordinateur ciné-club et conférences et\, très exceptionnellement\, conférencier. \nL’AHQ fonctionne uniquement avec des bénévoles et tout l’argent recueilli va à la programmation de conférences\, de ciné-clubs et de publications humanistes. Un don\, même minime\, est la preuve indiscutable que vous appréciez ce que nous faisons et nous encourage non seulement à continuer mais à concevoir de nouvelles façons de rejoindre nos amis humanistes. \n(Notez que l’AHQ émet des reçus de charité pour les dons dont la somme annuelle égale ou dépasse 35 $) \n  \n			\n				Faire un don
URL:https://assohum.org/activites/cine-conference-le-compromis-de-1905/
LOCATION:CHQ + Zoom\, 101-1225 boulevard St-Joseph Est\, Montreal\, Québec\, H2J1L7\, Canada
CATEGORIES:Ciné-Club,Conférences,Événement hybride
ATTACH;FMTTYPE=image/jpeg:https://assohum.org/wp-content/uploads/2024/11/la-separation.jpg
END:VEVENT
BEGIN:VEVENT
DTSTART;TZID=America/New_York:20241212T190000
DTEND;TZID=America/New_York:20241212T210000
DTSTAMP:20260421T132657
CREATED:20241206T180218Z
LAST-MODIFIED:20241206T213042Z
UID:23757-1734030000-1734037200@assohum.org
SUMMARY:Conférence par David Rand
DESCRIPTION:La pseudo-laïcité au service du privilège religieux \nPar David Rand \nAu Québec\, au Canada et dans beaucoup d’autres pays\, le privilège religieux est omniprésent : dans la législation\, dans les universités et les institutions\, dans les médias\, dans les associations citoyennes\, dans les mœurs\, en somme partout.  \nDans le monde anglophone\, les croyances religieuses sont élevées au-dessus des convictions politiques ou philosophiques et jouissent ainsi d’un statut privilégié. Dans la constitution des États-Unis\, le principe de séparation entre religions et État brille par son absence. La constitution canadienne de 1982 déclare la « suprématie de Dieu ». Même au Québec\, dans la modeste Loi sur la laïcité de l’État\, une législation pourtant avant-gardiste en matière de laïcité\, la liberté de religion est élevée injustement au même niveau que la liberté de conscience. \nDepuis plusieurs années\, une mouvance se prétendant de la gauche politique mais ayant abandonné les valeurs des Lumières\, en particulier l’universalisme\, qui constituent la définition même de cette gauche\, fait des ravages. Cette mouvance prône des politiques extrêmement clivantes motivées par la pensée magique et la pseudoscience. En particulier\, elle confond allègrement identité raciale et appartenance religieuse\, évacuant ainsi la liberté de conscience et nous éloignant encore davantage de la laïcité. \nLe privilège religieux\, la nécessité d’une cohérente laïcité pour y résister\, ainsi que les barrières à la laïcisation sont des thèmes explorés dans l’œuvre Un simulacre de laïcité\, L’échec du sécularisme dans le monde anglophone\, récemment paru chez L’Harmattan. \n			\n			\n				\n				\n				\n				\n			\n				\n				\n				\n				\n				\n				\n				\n				\n				\n				\n				\n			\n			\n				\n				\n				\n				\n				\n				\n				\n				\n				\n				\nDavid Rand est cofondateur et président de l’association Libres penseurs athées. Formé en physique et en mathématiques\, retraité d’une carrière en informatique\, il milite au sein de mouvements de libre pensée depuis de nombreuses années. Ses textes sur la laïcité et sur l’athéisme sont parus dans plusieurs revues et sur plusieurs sites web. \n\n			\n				\n				\n				\n				\n				\n			\n				\n				\n				\n				\n				Où ? Au Centre humaniste du Québec\, 1225 boulevard St-Joseph Est\, salle 101. \n  \nQuand ? Le jeudi 12 décembre  2024 à partir de 19h.  Les portes seront ouvertes à 18h 30. Comme d’habitude\, il y aura une période de discussion. \n  \nLe livre de David Rand\, Un simulacre de laïcité\, sera disponible sur place au prix spécial de 40 $ (54$ en librairie). \n			\n			\n				\n				\n				\n				\n			\n				\n				\n				\n				\n				\n				\n				\n				\n				\n				\n				Cette conférence se tiendra en présentiel au Centre humaniste et sur Internet via Zoom. Que vous soyez présent où à distance il vous faudra payer l’entrée sur place ou à distance par carte de crédit/PayPal par Internet avant  jeudi 12 décembre à midi. Dans tous les cas\, SVP\, réservez votre place par un courriel à reservation@assohum.org et précisez si vous serez présent ou à distance. Merci de votre aide. \nFrais de participation (en présence ou à distance) : 8$ membre\, 13$ non-membre. \n			\n				\n				\n				\n				\n				\n      \n        \n          Veillez choisir 8 $ ou 13 $ >>\n          Tarif membre 8$ - 8 CADTarif non-membre 13$ - 13 CAD\n          \n        \n      \n      \n    \n    \n    \n			\n			\n				\n				\n				\n				\n			\n				\n				\n				\n				\n				\n				\n				\n				\n				\n				\n				Sous réserve d’un comportement respectueux envers le conférencier et l’audience\, les 18 à 25 ans sont admis gratuitement au Centre humaniste du Québec. Réservation impérativement requise via courriel à reservation@assohum.org (pas d’accent sur «reservation»). Notez que la conférence ne sera pas rediffusée sur Internet.  \nIMPORTANT : Vous aimeriez venir avec une personne qui n’a pas reçu cette invitation ? Passez lui le lien de cette page. Vous pouvez devenir membre sur place (25 $ par an) ou par Paypal sur notre site web. \nAu plaisir de vous y rencontrer\, \nMichel Virard\, coordinateur ciné-club et conférences \nL’AHQ fonctionne uniquement avec des bénévoles et tout l’argent recueilli va à la programmation de conférences\, de ciné-clubs et de publications humanistes. Un don\, même minime\, est la preuve indiscutable que vous appréciez ce que nous faisons et nous encourage non seulement à continuer mais à concevoir de nouvelles façons de rejoindre nos amis humanistes. \n(Notez que l’AHQ émet des reçus de charité pour les dons dont la somme annuelle égale ou dépasse 35 $) \n			\n				Faire un don
URL:https://assohum.org/activites/conference-par-david-rand/
LOCATION:CHQ + Zoom\, 101-1225 boulevard St-Joseph Est\, Montreal\, Québec\, H2J1L7\, Canada
CATEGORIES:Conférences,Événement hybride,Lancement de livre
ATTACH;FMTTYPE=image/jpeg:https://assohum.org/wp-content/uploads/2024/12/david_rand_2024_11_06_0422x0575.jpg
END:VEVENT
END:VCALENDAR