BEGIN:VCALENDAR
VERSION:2.0
PRODID:-//Association humaniste du Québec - ECPv6.15.17//NONSGML v1.0//EN
CALSCALE:GREGORIAN
METHOD:PUBLISH
X-ORIGINAL-URL:https://assohum.org
X-WR-CALDESC:Évènements pour Association humaniste du Québec
REFRESH-INTERVAL;VALUE=DURATION:PT1H
X-Robots-Tag:noindex
X-PUBLISHED-TTL:PT1H
BEGIN:VTIMEZONE
TZID:America/New_York
BEGIN:DAYLIGHT
TZOFFSETFROM:-0500
TZOFFSETTO:-0400
TZNAME:EDT
DTSTART:20230312T070000
END:DAYLIGHT
BEGIN:STANDARD
TZOFFSETFROM:-0400
TZOFFSETTO:-0500
TZNAME:EST
DTSTART:20231105T060000
END:STANDARD
BEGIN:DAYLIGHT
TZOFFSETFROM:-0500
TZOFFSETTO:-0400
TZNAME:EDT
DTSTART:20240310T070000
END:DAYLIGHT
BEGIN:STANDARD
TZOFFSETFROM:-0400
TZOFFSETTO:-0500
TZNAME:EST
DTSTART:20241103T060000
END:STANDARD
BEGIN:DAYLIGHT
TZOFFSETFROM:-0500
TZOFFSETTO:-0400
TZNAME:EDT
DTSTART:20250309T070000
END:DAYLIGHT
BEGIN:STANDARD
TZOFFSETFROM:-0400
TZOFFSETTO:-0500
TZNAME:EST
DTSTART:20251102T060000
END:STANDARD
END:VTIMEZONE
BEGIN:VEVENT
DTSTART;TZID=America/New_York:20240411T190000
DTEND;TZID=America/New_York:20240411T210000
DTSTAMP:20260422T070020
CREATED:20240329T151508Z
LAST-MODIFIED:20240404T040701Z
UID:23262-1712862000-1712869200@assohum.org
SUMMARY:Conférence France Giroux
DESCRIPTION:**Cette conférence était initialement prévue le 4 avril\, mais est remise le jeudi 11** \nLa Rhétorique du candidat populiste. \nQuels risques pour nos démocraties ? \n​Par France Giroux\nLe populisme ambiant pose un défi à nos démocraties. Il traduit des impatiences et des colères présentes chez de nombreux citoyens ; leurs questions sont légitimes : faut-il davantage de délibérations et de décisions au lieu de donner un mandat à des gouvernements à chaque scrutin électif ? Dans cette problématique\, il n’y a rien pour nous déconcerter\, nous\, les démocrates. Ce qui en revanche nous décontenance totalement\, c’est la manière de prendre la parole du candidat populiste. Car celui que Pierre Rosanvallon appelle un « homme-peuple » va accaparer la parole pour porter toutes nos quêtes et toutes nos réalités. Surgit alors un problème : de la part de ce candidat\, n’est-ce pas remettre en cause la compétence réelle ou\, du moins\, supposée des participants à l’exercice démocratique que de parler à leur place en faisant appel aux affects (peur\, colère\, nostalgie) par un discours « sursimplifiant » les enjeux complexes ? Contre cet empêcheur de dialoguer d’égal à égal\, il faut amorcer l’analyse philosophique des inégalités à l’œuvre sans négliger leur dimension politique. Ce qui mérite notre attention\, de plus\, est la logique intrinsèque du populisme\, laquelle influence l’exercice du pouvoir : le candidat\, une fois élu\, ne se contente pas d’attiser l’animosité envers les élites ; il s’affirme anti-pluraliste : lui\, et lui seul\, représente le peuple\, comme s’il avait réussi une OPA sur le mot peuple. Sa nostalgie ne se résume pas à une protestation (nos conditions de vie étaient meilleures avant) ; elle devient identitaire et ne s’encombre pas de nuances ; elle réduit ses cibles à des caricatures\, à des catégories immiscibles. En ce sens\, être « populiste » serait une manière de prendre la parole dans le débat public\, et non pas un terme diabolisant la notion plutôt vague de « peuple ». \n			\n				\n				\n				\n				\n				\n			\n			\n				\n				\n				\n				\n			\n				\n				\n				\n				\n				\n				\n				\n				\n				\n				\n				  \n  \n  \n			\n				\n				\n				\n				\n				\n			\n			\n				\n				\n				\n				\n				\n				\n				\n				\n				\n				France Giroux \n Titulaire d’un doctorat en philosophie de l’université de Montréal et boursière de l’office allemand d’échanges universitaires\, France Giroux est professeure retraitée du collège Montmorency. Sa thèse avait pour titre : « L’interventionnisme : Hegel contre Hayek ». Elle a été membre de l’équipe de recherche sur « Les théories de l’égalité et les problèmes philosophiques de la condition féminine ». De plus\, elle a participé aux colloques de l’association d’économie politique\, ce qui a été l’occasion de publier dans un ouvrage sur le néolibéralisme dirigé par la sociologue Lizette Jalbert. France Giroux a publié plusieurs articles et contribué à des ouvrages collectifs dans le domaine de la philosophie politique. \n. \n			\n				\n				\n				\n				\n				\n\n\n\n\n\nOù ? Au Centre humaniste du Québec\, 1225 boulevard St-Joseph Est\, salle 101. \nQuand ? Le jeudi 11 avril  2024 à partir de 19h.  Les portes seront ouvertes à 18h 30. Les nouvelles humanistes seront présentées de 19h à 19h15. La conférence commencera à 19h15. Comme d’habitude\, il y aura une période de discussion. \n\n\n\n\n\n\n			\n			\n				\n				\n				\n				\n			\n				\n				\n				\n				\n				\n				\n				\n				\n				\n				\n				Cette conférence se tiendra simultanément en présentiel au Centre humaniste et sur Internet via Zoom. il faudra payer l’entrée sur place ou à distance par carte de crédit/PayPal par Internet avant  jeudi 11 avril à midi. Dans ce dernier cas veuillez aussi envoyer un courriel à reservation@assohum.org (pas d’accent sur «reservation») et indiquer dans le champs sujet «par Zoom» si vous assisterez à distance\, afin que nous puissions vous envoyer le lien Zoom. \nAttention aux participants à distance: suite aux intrusions lors de la conférence du 14 décembre 2023\, nous devons maintenant vérifier les identités. Pour cela nous vous demandons de bien vouloir vous enregistrer sous votre nom véritable dans la session Zoom.  \nFrais de participation (en présentiel et via Zoom) : 8$ membre\, 13$ non-membre. \n			\n			\n				\n				\n				\n				\n			\n				\n				\n				\n				\n				\n				\n				\n				\n				\n				\n				\n      \n        \n          Tarif Membre 8$  \n          Tarif membre 8$ - 8 CADTarif non-membre 13$ - 13 CAD\n          \n        \n      \n      \n    \n    \n    \n			\n			\n				\n				\n				\n				\n				\n				\n				\n				\n				\n				Si vous avez un compte Paypal\, utilisez le bouton jaune\, sinon utilisez le bouton noir « Débit ou crédit ». \n  \n			\n			\n				\n				\n				\n				\n			\n				\n				\n				\n				\n				\n				\n				\n				\n				\n				\n				Sous réserve d’un comportement respectueux envers le conférencier et l’audience\, les 18 à 25 ans sont admis gratuitement au Centre humaniste du Québec. Réservation impérativement requise via courriel à reservation@assohum.org (pas d’accent sur «reservation»). Noter que la conférence sera enregistrée en vidéo.  \nIMPORTANT : Vous aimeriez venir avec une personne qui n’a pas reçu cette invitation ? Passez lui le lien de cette page. Vous pouvez devenir membre sur place (25 $ par an) ou par Paypal sur notre site web. \nAu plaisir de vous y rencontrer\, \nMichel Virard\, coordinateur ciné-club et conférences \nL’AHQ fonctionne uniquement avec des bénévoles et tout l’argent recueilli va à la programmation de conférences\, de ciné-clubs et de publications humanistes. Un don\, même minime\, est la preuve indiscutable que vous appréciez ce que nous faisons et nous encourage non seulement à continuer mais à concevoir de nouvelles façons de rejoindre nos amis humanistes. \n(Notez que l’AHQ émet des reçus de charité pour les dons dont la somme annuelle égale ou dépasse 35 $) \n  \n			\n				Faire un don
URL:https://assohum.org/activites/conference-france-giroux/
LOCATION:CHQ + Zoom\, 101-1225 boulevard St-Joseph Est\, Montreal\, Québec\, H2J1L7\, Canada
CATEGORIES:Conférences
ATTACH;FMTTYPE=image/jpeg:https://assohum.org/wp-content/uploads/2024/03/Le-peuple-dabord.jpg
END:VEVENT
END:VCALENDAR