BEGIN:VCALENDAR
VERSION:2.0
PRODID:-//Association humaniste du Québec - ECPv6.15.17//NONSGML v1.0//EN
CALSCALE:GREGORIAN
METHOD:PUBLISH
X-ORIGINAL-URL:https://assohum.org
X-WR-CALDESC:Évènements pour Association humaniste du Québec
REFRESH-INTERVAL;VALUE=DURATION:PT1H
X-Robots-Tag:noindex
X-PUBLISHED-TTL:PT1H
BEGIN:VTIMEZONE
TZID:America/New_York
BEGIN:DAYLIGHT
TZOFFSETFROM:-0500
TZOFFSETTO:-0400
TZNAME:EDT
DTSTART:20220313T070000
END:DAYLIGHT
BEGIN:STANDARD
TZOFFSETFROM:-0400
TZOFFSETTO:-0500
TZNAME:EST
DTSTART:20221106T060000
END:STANDARD
BEGIN:DAYLIGHT
TZOFFSETFROM:-0500
TZOFFSETTO:-0400
TZNAME:EDT
DTSTART:20230312T070000
END:DAYLIGHT
BEGIN:STANDARD
TZOFFSETFROM:-0400
TZOFFSETTO:-0500
TZNAME:EST
DTSTART:20231105T060000
END:STANDARD
BEGIN:DAYLIGHT
TZOFFSETFROM:-0500
TZOFFSETTO:-0400
TZNAME:EDT
DTSTART:20240310T070000
END:DAYLIGHT
BEGIN:STANDARD
TZOFFSETFROM:-0400
TZOFFSETTO:-0500
TZNAME:EST
DTSTART:20241103T060000
END:STANDARD
END:VTIMEZONE
BEGIN:VEVENT
DTSTART;TZID=America/New_York:20230119T190000
DTEND;TZID=America/New_York:20230119T210000
DTSTAMP:20260423T110447
CREATED:20230114T175848Z
LAST-MODIFIED:20230114T224531Z
UID:21434-1674154800-1674162000@assohum.org
SUMMARY:Conférence Michel Pion
DESCRIPTION:Vous êtes un humaniste ?\nVous êtes-vous déjà posé la question\, qu’est-ce que cela implique d’être humaniste?\n\n			\n				\n				\n				\n				\n				\n			\n			\n				\n				\n				\n				\n			\n				\n				\n				\n				\n				\n				\n				\n				\n				\n				\n				\n\nMichel Pion actuel président de l’Association humaniste du Québec\, vous invite à une causerie pour proposer un début de réponse à cette question. \nL’humanisme n’est pas une religion\, elle n’a pas de dogmes ni de livre sacré pour nous dicter une ligne de conduite elle évolue avec le temps et l’évolution de la société humaine. Toutefois\, les humanistes s’entendent sur un ensemble de principes et sur une philosophie qui guident leurs actions et leur vision du monde. Nous vous proposons de passer en revue ces idées et principes et d’examiner ce qui fait généralement consensus pour les humanistes. \nUne période de discussion et d’échanges suivra. \nOù ? Au Centre humaniste du Québec\, 1225 boulevard St-Joseph Est\, salle 101. \nFrais de participation (locale ou à distance) : 8$ membre\, 13$ non-membre. \nSi vous avez un compte Paypal\, utiisez le bouton jaune\, sinon utilisez le bouton noir. \n  \n\n\n			\n			\n				\n				\n				\n				\n			\n				\n				\n				\n				\n				\n				\n				\n				\n				\n				\n				\n      \n        \n          Tarif Membre $8 - Non-membre 13$  \n          Tarif membre - 8 CADTarif non-membre - 13 CAD\n          1234\n        \n      \n      \n    \n    \n    \n			\n			\n				\n				\n				\n				\n				\n			\n				\n				\n				\n				\n			\n				\n				\n				\n				\n				\n				\n				\n				\n				\n				\n				Quand ? Le jeudi 19 janvier 2023 à partir de 19h.  Vous devez réserver à reservation@assohum.org (pas d’accent sur «reservation»). Les portes seront ouvertes à 18h 30. Les nouvelles humanistes seront présentées de 19h à 19h15. La conférence proprement dite commencera à 19h15. Comme d’habitude\, il y aura une période de question. \nLa conférence sera disponible en mode hybride via Zoom. Pour participer à distance\, y compris à la période de questions\, il faudra avoir payé l’entrée (avant  jeudi 18 janvier à midi par une carte de crédit en utilisant Paypal. Un lien Zoom vous sera envoyé par courriel. (La partie conférence sera enregistrée et mise en ligne plus tard et sera accessible gratuitement sur notre chaîne Youtube\, QcHumaniste.) \nIMPORTANT : Vous aimeriez venir avec une personne qui n’a pas reçu cette invitation ? Veuillez nous fournir son nom et son adresse courriel pour nous permettre de lui en faire parvenir une. L’événement est à 8 $ pour les membres AHQ et 13 $ pour les non-membres. Vous pouvez devenir membre sur place (25 $ par an) ou par Paypal sur notre site web. \nAu plaisir de vous y rencontrer\, \nL’AHQ fonctionne uniquement avec des bénévoles et tout l’argent recueilli va à la programmation de conférences\, de ciné-clubs et de publications humanistes. Un don\, même minime\, est la preuve indiscutable que vous appréciez ce que nous faisons et nous encourage non seulement à continuer mais à concevoir de nouvelles façons de rejoindre nos amis humanistes. \n(notez que l’AHQ émet des reçus de charité pour les dons dont la somme annuelle égale ou dépasse 35$) \nMichel Virard\, coordinateur ciné-club et conférences\n			\n				Faire un don
URL:https://assohum.org/activites/conference-michel-pion/
LOCATION:Centre humaniste du Québec\, 1225 St-Joseph est\, Montréal\, Québec\, H2J 2L7\, Canada
CATEGORIES:Conférences,Événement hybride
ATTACH;FMTTYPE=image/jpeg:https://assohum.org/wp-content/uploads/2023/01/MichelPion-Moi2-400.jpg
END:VEVENT
END:VCALENDAR