BEGIN:VCALENDAR
VERSION:2.0
PRODID:-//Association humaniste du Québec - ECPv6.15.17//NONSGML v1.0//EN
CALSCALE:GREGORIAN
METHOD:PUBLISH
X-WR-CALNAME:Association humaniste du Québec
X-ORIGINAL-URL:https://assohum.org
X-WR-CALDESC:Évènements pour Association humaniste du Québec
REFRESH-INTERVAL;VALUE=DURATION:PT1H
X-Robots-Tag:noindex
X-PUBLISHED-TTL:PT1H
BEGIN:VTIMEZONE
TZID:America/New_York
BEGIN:DAYLIGHT
TZOFFSETFROM:-0500
TZOFFSETTO:-0400
TZNAME:EDT
DTSTART:20210314T070000
END:DAYLIGHT
BEGIN:STANDARD
TZOFFSETFROM:-0400
TZOFFSETTO:-0500
TZNAME:EST
DTSTART:20211107T060000
END:STANDARD
BEGIN:DAYLIGHT
TZOFFSETFROM:-0500
TZOFFSETTO:-0400
TZNAME:EDT
DTSTART:20220313T070000
END:DAYLIGHT
BEGIN:STANDARD
TZOFFSETFROM:-0400
TZOFFSETTO:-0500
TZNAME:EST
DTSTART:20221106T060000
END:STANDARD
BEGIN:DAYLIGHT
TZOFFSETFROM:-0500
TZOFFSETTO:-0400
TZNAME:EDT
DTSTART:20230312T070000
END:DAYLIGHT
BEGIN:STANDARD
TZOFFSETFROM:-0400
TZOFFSETTO:-0500
TZNAME:EST
DTSTART:20231105T060000
END:STANDARD
END:VTIMEZONE
BEGIN:VEVENT
DTSTART;TZID=America/New_York:20220317T190000
DTEND;TZID=America/New_York:20220317T213000
DTSTAMP:20260424T053849
CREATED:20220312T155919Z
LAST-MODIFIED:20220312T164654Z
UID:20561-1647543600-1647552600@assohum.org
SUMMARY:L’univers de la stupidité - conférence de Serge Larivée.
DESCRIPTION:L’univers de la stupidité\nConférence de Serge Larivée\nLa stupidité occupe une grande place dans nos sociétés. Dans cette conférence\, Serge Larivée présentera quelques éléments permettant d’en saisir les tenants et les aboutissants. Dans un premier temps\, le conférencier rappellera la baisse du QI dans certains pays occidentaux. « Mais on reste calme\, ça baisse très lentement »\, nous précise-t-il. Il insistera par la suite sur trois aspects de la stupidité au quotidien : l’agnatologie\, les biais cognitifs et le règne des opinions et des émotions. Il enchainera avec un triste phénomène\, celui de la stupidité en éducation\, et le non moins triste phénomène de la stupidité en politique avec le cas éloquent de Donald Trump. Finalement\, il nous présentera quelques moyens pour contrer la stupidité. \nNotice biographique \nSerge Larivée est professeur à l’École de psychoéducation de l’Université de Montréal depuis 1977 et directeur de la Revue de psychoéducation depuis 1979. Son champ d’expertise porte d’une part sur l’intelligence et\, d’autre part\, sur la science vue sous l’angle des fraudes scientifiques et des pseudosciences\, ce qui lui a valu le prix Sceptiques du Québec 2002. Il a à son actif 400 publications et 343 communications. Il a reçu le prix d’excellence en enseignement de la Faculté des arts et des sciences de l’Université de Montréal en 1994 et le Prix du Mérite du Conseil Interprofessionnel du Québec en 2014. \nTarif des membres 5$\, non membres 10$. Vous pouvez payer à l’entrée ou prépayé ci-dessous; \n			\n				\n				\n				\n				\n				\n      \n        \n          Tarif membre  \n          Tarif membre - 5 CADTarif non-membre - 10 CAD\n          \n        \n      \n      \n    \n    \n    \n			\n				\n				\n				\n				\n				Quand ? Le jeudi 17 mars 2022 à partir de 19h00 (heure avancée de l’Est). Vous devez réserver à reservation@assohum.org (pas d’accent sur «reservation»). Les portes seront ouvertes à 18h 30. Les nouvelles humanistes seront présentées de 19h à 19h15. La conférence proprement dite commencera à 19h15. Comme d’habitude\, il y aura une période de question après la conférence. \nLa conférence sera captée par vidéo et retransmise en différé sur notre canal YouTube. \nIMPORTANT : Vous aimeriez venir avec une personne qui n’a pas reçu cette invitation ? Veuillez nous fournir son nom et son adresse courriel pour nous permettre de lui en faire parvenir une. La projection est à 5 $ pour les membres AHQ et 10 $ pour les non-membres. Vous pouvez devenir membre sur place (25 $ par an) ou par Paypal sur notre site web. \nAu plaisir de vous y rencontrer\, \nMichel Virard\, coordinateur ciné-club \nL’AHQ fonctionne uniquement avec des bénévoles et tout l’argent recueilli va à la programmation de conférences\, de ciné-clubs et de publications humanistes. Un don\, même minime\, est la preuve indiscutable que vous appréciez ce que nous faisons et nous encourage non seulement à continuer mais à concevoir de nouvelles façons de rejoindre nos amis humanistes. \nFaire un don \n			\n				Faire un don
URL:https://assohum.org/activites/conference-du-17-mars-de-serge-larivee/
LOCATION:Centre humaniste du Québec\, 1225 St-Joseph est\, Montréal\, Québec\, H2J 2L7\, Canada
CATEGORIES:Conférences
ATTACH;FMTTYPE=image/jpeg:https://assohum.org/wp-content/uploads/2022/03/Serge-Larivee-2.jpg
END:VEVENT
END:VCALENDAR