BEGIN:VCALENDAR
VERSION:2.0
PRODID:-//Association humaniste du Québec - ECPv6.15.17//NONSGML v1.0//EN
CALSCALE:GREGORIAN
METHOD:PUBLISH
X-ORIGINAL-URL:https://assohum.org
X-WR-CALDESC:Évènements pour Association humaniste du Québec
REFRESH-INTERVAL;VALUE=DURATION:PT1H
X-Robots-Tag:noindex
X-PUBLISHED-TTL:PT1H
BEGIN:VTIMEZONE
TZID:America/New_York
BEGIN:DAYLIGHT
TZOFFSETFROM:-0500
TZOFFSETTO:-0400
TZNAME:EDT
DTSTART:20190310T070000
END:DAYLIGHT
BEGIN:STANDARD
TZOFFSETFROM:-0400
TZOFFSETTO:-0500
TZNAME:EST
DTSTART:20191103T060000
END:STANDARD
BEGIN:DAYLIGHT
TZOFFSETFROM:-0500
TZOFFSETTO:-0400
TZNAME:EDT
DTSTART:20200308T070000
END:DAYLIGHT
BEGIN:STANDARD
TZOFFSETFROM:-0400
TZOFFSETTO:-0500
TZNAME:EST
DTSTART:20201101T060000
END:STANDARD
BEGIN:DAYLIGHT
TZOFFSETFROM:-0500
TZOFFSETTO:-0400
TZNAME:EDT
DTSTART:20210314T070000
END:DAYLIGHT
BEGIN:STANDARD
TZOFFSETFROM:-0400
TZOFFSETTO:-0500
TZNAME:EST
DTSTART:20211107T060000
END:STANDARD
END:VTIMEZONE
BEGIN:VEVENT
DTSTART;TZID=America/New_York:20201022T193000
DTEND;TZID=America/New_York:20201022T210000
DTSTAMP:20260425T125709
CREATED:20201020T041133Z
LAST-MODIFIED:20201021T202226Z
UID:12627-1603395000-1603400400@assohum.org
SUMMARY:Conférence: l'Éthique sexuelle
DESCRIPTION:Jacques Légaré\, ancien professeur d’histoire et de philosophie\, nous invite à repenser la façon dont nous présentons la sexualité à nos étudiants. Je lui laisse la parole: \n\n« Quelques lignes de présentation de Éthique sexuelle \nMon propos vise le public étudiant (Secondaire V + Collégial) qui reçoit déjà un cours sur la sexualité. Hélas\, ce cours est amoindri et dispensé par des professeurs non formés\, ni en sexologie\, ni en éthique proprement dite. D’où la pertinence de cette conférence et du texte qui leur est destiné.\nMa conférence plaira sûrement aux plus âgés car ils entendront ce qu’ils auraient aimé entendre sur leur banc d’école il y a 40 ou 50 ans. \nJe vous causerai à tous comme si vous aviez 17 ou 20 ans. Cela nous rajeunira tous. \nEn clair\, ma conférence met les points sur les «i» auxquels le devis ministériel sur le cours de Sexualité\, valsant pour ne pas heurter trop de gens\, se refuse. J’appellerai un chat un chat.\nSans moraline\, sans moralisme. En toute éthique solide et crue comme nous l’aurions lue dans le traité d’Aristote sur l’amour s’il n’avait pas été détruit\, sans doute par les chrétiens copistes et dépositaires des rares manuscrits antiques.\nSi j’ai le temps\, je vous causerai à la fin des misologies et des erreurs de psychologie propres aux religions dans le domaine sexuel\, des problématiques toutes récentes et très médiatisées ainsi que\, tout à l’inverse\, des propositions si fortes et si belles des humanistes méconnus\, et déjà anciennes\, en sexualité.\nJe ferai même des propositions inédites et audacieuses.\nAu plaisir de vous rencontrer bientôt.  \nJacques Légaré\nAyant dispensé 12 ans le cours Éthique au collégial. » \n\nLa conférence virtuelle est gratuite mais vous devez réserver à reservation@assohum.org. Les personnes qui auront réservé et qui seront présentes pendant la conférence pourrons recevoir gratuitement un texte complémentaire sur le sujet\, par Jacques Légaré. \nOù ? Sur Internet\, via Zoom. Avec la confirmation de réservation vous recevrez le lien. SVP utilisez votre vrai nom sur Zoom car nous ne sommes pas en mesure de faire le lien entre un pseudo Zoom et le nom enregistré avec la réservation et vous risqueriez de ne pas être admis. \nQuand ? Le jeudi 22 octobre 2020 à partir de 19h. La conférence proprement dite commencera à 19h30. Il y aura une période de question après la conférence. \nLe comité des conférences AHQ \nPetit rappel: cette conférence est gratuite mais les frais pour créer un événement sont bien réels et non virtuels. L’AHQ fonctionne uniquement avec des bénévoles et tout l’argent recueilli va à la programmation de conférences\, de ciné-clubs et de publications humanistes.  \nUn don\, même minime\, est la preuve indiscutable que vous appréciez ce que nous faisons et nous encourage à continuer. \n  \n  \n 
URL:https://assohum.org/activites/12627/
LOCATION:Via Zoom
CATEGORIES:Conférences
ATTACH;FMTTYPE=image/jpeg:https://assohum.org/wp-content/uploads/2020/10/Eros-et-Psyche-Landi-Giuseppe-vers-1780-Venise-Musee-Correr-292x300-1.jpg
END:VEVENT
END:VCALENDAR