BEGIN:VCALENDAR
VERSION:2.0
PRODID:-//Association humaniste du Québec - ECPv6.15.17//NONSGML v1.0//EN
CALSCALE:GREGORIAN
METHOD:PUBLISH
X-ORIGINAL-URL:https://assohum.org
X-WR-CALDESC:Évènements pour Association humaniste du Québec
REFRESH-INTERVAL;VALUE=DURATION:PT1H
X-Robots-Tag:noindex
X-PUBLISHED-TTL:PT1H
BEGIN:VTIMEZONE
TZID:America/New_York
BEGIN:DAYLIGHT
TZOFFSETFROM:-0500
TZOFFSETTO:-0400
TZNAME:EDT
DTSTART:20220313T070000
END:DAYLIGHT
BEGIN:STANDARD
TZOFFSETFROM:-0400
TZOFFSETTO:-0500
TZNAME:EST
DTSTART:20221106T060000
END:STANDARD
BEGIN:DAYLIGHT
TZOFFSETFROM:-0500
TZOFFSETTO:-0400
TZNAME:EDT
DTSTART:20230312T070000
END:DAYLIGHT
BEGIN:STANDARD
TZOFFSETFROM:-0400
TZOFFSETTO:-0500
TZNAME:EST
DTSTART:20231105T060000
END:STANDARD
BEGIN:DAYLIGHT
TZOFFSETFROM:-0500
TZOFFSETTO:-0400
TZNAME:EDT
DTSTART:20240310T070000
END:DAYLIGHT
BEGIN:STANDARD
TZOFFSETFROM:-0400
TZOFFSETTO:-0500
TZNAME:EST
DTSTART:20241103T060000
END:STANDARD
END:VTIMEZONE
BEGIN:VEVENT
DTSTART;TZID=America/New_York:20230518T080000
DTEND;TZID=America/New_York:20230518T190000
DTSTAMP:20260423T014042
CREATED:20230509T144216Z
LAST-MODIFIED:20230512T153133Z
UID:22124-1684396800-1684436400@assohum.org
SUMMARY:Laïcité et le jugement Blanchard - Jacques Légaré
DESCRIPTION:La conférence de ce jeudi 18 mai portera sur un sujet important aux yeux des humanistes et de tous ceux qui souhaitent un état laïque. Elle est suscitée par l’urgence du débat actuel sur la laïcité\, voire même sur l’avenir de la culture citoyenne du pays tout entier. \nElle traitera du jugement Marc-André Blanchard sur la loi 21 « Laïcité de l’État » (256 pages). Elle sera un résumé du 1er tome (1169 pages) de l’ouvrage de monsieur Jacques Légaré\, « La Cour suprême interpelée ». Il sera gratuitement offert par l’auteur\, à la fin de la conférence\, en version électronique à ceux qui le désireront. \nPar cette analyse de philosophie juridique\, Jacques Légaré entend démontrer les carences importantes\, non seulement du jugement Blanchard\, mais de toute la tradition juridique canadienne qui a disposé des comportements religieux. \nLes éléments et critères de son analyse sont puisés\, non dans un baccalauréat en droit\, mais plutôt dans 57 ans d’étude en Histoire occidentale\, en Philosophie (éthique et politique) et en Géopolitique. \nMilitant laïciste\, il m’a paru important que je mette mes modestes connaissances au service de la cause humaniste et\, même\, du droit canadien qui en a tant besoin quand on lit attentivement sa jurisprudence en matière religieuse depuis 1774. \nBref\, nous tous\, laïcistes\, humanistes et progressistes\, il faut relever le gant (ou le défi) que ce jugement si déficient nous a tous lancé. \nJacques Légaré\, né 1948 \nPh.d. en Philosophie politique \nMaître en Histoire byzantino-arabe \nProfesseur (retraité) d’Histoire\, d’Économique et de Philosophie \n			\n			\n				\n				\n				\n				\n			\n				\n				\n				\n				\n				\n				\n				\n				\n				\n				\n				\n\n\n\n\n \n\n\n\n\n\n\n\n\n\n\n\n\n\n\n\nOù ? Au Centre humaniste du Québec\, 1225 boulevard St-Joseph Est\, salle 101. \nQuand ? Le jeudi 18 mai 2023 à partir de 19h.  Vous devez réserver à reservation@assohum.org (pas d’accent sur «reservation»). Les portes seront ouvertes à 18h 30. Les nouvelles humanistes seront présentées de 19h à 19h15. La conférence proprement dite commencera à 19h15. Comme d’habitude\, il y aura une période de question. \nLa conférence sera disponible en mode hybride via Zoom. Pour participer à distance\, y compris à la période de questions\, il faudra avoir payé l’entrée (avant  jeudi 18 mai à midi) par une carte de crédit en utilisant Paypal. Un lien Zoom vous sera envoyé par courriel. \n \n\n\n\n\n\n\n\n\n\n\nFrais de participation (locale ou à distance) : 8$ membre\, 13$ non-membre. \n\n\n\n\n\n\n\n\n			\n			\n				\n				\n				\n				\n				\n				\n				\n				\n				\n				\n			\n			\n				\n				\n				\n				\n			\n				\n				\n				\n				\n				\n				\n				\n				\n				\n				\n				\n      \n        \n          Tarif Membre 8$  \n          Tarif membre 8$ - 8 CADTarif non-membre 13$ - 13 CAD\n          \n        \n      \n      \n    \n    \n    \n			\n			\n				\n				\n				\n				\n				\n				\n				\n				\n				\n				  \n  \nSi vous avez un compte Paypal\, utiisez le bouton jaune\, sinon utilisez le bouton noir « Débit ou crédit ». \n  \n			\n			\n				\n				\n				\n				\n			\n				\n				\n				\n				\n				\n				\n				\n				\n				\n				\n				IMPORTANT : Vous aimeriez venir avec une personne qui n’a pas reçu cette invitation ? Veuillez nous fournir son nom et son adresse courriel pour nous permettre de lui en faire parvenir une. Vous pouvez devenir membre sur place (25 $ par an) ou par Paypal sur notre site web. \nAu plaisir de vous y rencontrer\, \nMichel Virard\, coordinateur ciné-club et conférences \nL’AHQ fonctionne uniquement avec des bénévoles et tout l’argent recueilli va à la programmation de conférences\, de ciné-clubs et de publications humanistes. Un don\, même minime\, est la preuve indiscutable que vous appréciez ce que nous faisons et nous encourage non seulement à continuer mais à concevoir de nouvelles façons de rejoindre nos amis humanistes. \n(Notez que l’AHQ émet des reçus de charité pour les dons dont la somme annuelle égale ou dépasse 35 $) \n  \n			\n				Faire un don
URL:https://assohum.org/activites/laicite-et-le-jugement-blanchard-jacques-legare/
LOCATION:Centre humaniste du Québec\, 1225 St-Joseph est\, Montréal\, Québec\, H2J 2L7\, Canada
CATEGORIES:Conférences
ATTACH;FMTTYPE=image/png:https://assohum.org/wp-content/uploads/2023/05/macarons_loi_21.png
END:VEVENT
END:VCALENDAR