BEGIN:VCALENDAR
VERSION:2.0
PRODID:-//Association humaniste du Québec - ECPv6.15.17//NONSGML v1.0//EN
CALSCALE:GREGORIAN
METHOD:PUBLISH
X-WR-CALNAME:Association humaniste du Québec
X-ORIGINAL-URL:https://assohum.org
X-WR-CALDESC:Évènements pour Association humaniste du Québec
REFRESH-INTERVAL;VALUE=DURATION:PT1H
X-Robots-Tag:noindex
X-PUBLISHED-TTL:PT1H
BEGIN:VTIMEZONE
TZID:America/New_York
BEGIN:DAYLIGHT
TZOFFSETFROM:-0500
TZOFFSETTO:-0400
TZNAME:EDT
DTSTART:20220313T070000
END:DAYLIGHT
BEGIN:STANDARD
TZOFFSETFROM:-0400
TZOFFSETTO:-0500
TZNAME:EST
DTSTART:20221106T060000
END:STANDARD
BEGIN:DAYLIGHT
TZOFFSETFROM:-0500
TZOFFSETTO:-0400
TZNAME:EDT
DTSTART:20230312T070000
END:DAYLIGHT
BEGIN:STANDARD
TZOFFSETFROM:-0400
TZOFFSETTO:-0500
TZNAME:EST
DTSTART:20231105T060000
END:STANDARD
BEGIN:DAYLIGHT
TZOFFSETFROM:-0500
TZOFFSETTO:-0400
TZNAME:EDT
DTSTART:20240310T070000
END:DAYLIGHT
BEGIN:STANDARD
TZOFFSETFROM:-0400
TZOFFSETTO:-0500
TZNAME:EST
DTSTART:20241103T060000
END:STANDARD
END:VTIMEZONE
BEGIN:VEVENT
DTSTART;TZID=America/New_York:20230420T190000
DTEND;TZID=America/New_York:20230420T210000
DTSTAMP:20260423T030702
CREATED:20230413T144631Z
LAST-MODIFIED:20230413T151902Z
UID:22040-1682017200-1682024400@assohum.org
SUMMARY:Conférence – Robert Gilbert – Dieu n’existe pas
DESCRIPTION:Si une seule phrase était permise pour résumer l’humanité\, ce serait celle de Monod : \n\n« L’homme sait enfin qu’il est seul dans l’immensité indifférente de l’Univers d’où il a émergé par hasard. Non plus que son destin\, son devoir n’est écrit nulle part. » \n\nRobert Gilbert a récemment publié un ouvrage « Dieu n’existe pas » chez Librinova. L’auteur montre que la science ne prouve pas scientifiquement l’inexistence de Dieu\, car prouver l’inexistence de ce qui n’existe pas n’est pas possible en science. Toutefois\, il démontre que la science peut expliquer toutes les questions existentielles. \nExtraits de l’introduction de son livre ; \n« Le but de mon essai est de soumettre à mes amis et aux personnes qui s’interrogent sur leur origine et sur leur devenir la seule hypothèse existentielle incontestable et qui répond à toutes les questions existentielles inquiétantes\, voire angoissantes. De plus\, elle vise à démontrer la fausseté des croyances religieuses. Ceci m’a mené intuitivement au hasard : c’est la seule hypothèse qui me restait comme explication de l’origine de l’univers et de la vie. J’étais loin\, même d’un adminicule\, en 2020. En cherchant des informations sur cette hypothèse\, j’ai d’abord trouvé plusieurs travaux de mathématiciens où a été calculée la probabilité du hasard comme créateur de la vie et ils sont arrivés à la conclusion d’une probabilité si faible qu’ils ont jugé l’hypothèse impossible ! N’étant pas spécialiste des probabilités\, je croyais me rappeler que la probabilité d’une rencontre fortuite de deux événements indépendants pouvait s’exprimer par : \nhasard = PA x PB…. \n Nous nous proposons d’examiner toute question que nous croyons relative à l’existence au sens large\, et ce\, de manière à mettre nos analyses à la portée de tous\, ce qui nous oblige à simplifier au maximum l’information\, jusqu’à fournir un lexique immédiat qui échappe au quotidien s’il y a lieu… » \nEn préparation de la conférence\, pour ceux qui veulent une longueur d’avance\, monsieur Gilbert invite les participants à regarder sur YouTube ou Google « le mouvement brownien » car c’est lui le créateur de l’univers et de son contenu.   \nRobert Gilbert Ph.D est professeur chercheur\, école polytechnique de Montréal (retraité) \nIl a publié de nombreux articles scientifiques et donné plus d’une centaine de conférences. Il a également collaboré en tant qu’experts avec de nombreux ministères autant au Canada\, qu’en France et aux États-Unis. \nVous pouvez vous procurer son livre chez Librinova ou encore chez Renaud-Bray ou Gallimard Montréal \n			\n			\n				\n				\n				\n				\n			\n				\n				\n				\n				\n				\n				\n				\n				\n				\n				\n				\n\n\n\n\n\n\n\n\n\n\n\n\n\n\n\n\n\n\n\n\nOù ? Au Centre humaniste du Québec\, 1225 boulevard St-Joseph Est\, salle 101. \nQuand ? Le jeudi 20 avril 2023 à partir de 19h00   Vous devez réserver à reservation@assohum.org (pas d’accent sur «reservation»). Les portes seront ouvertes à 18h 30. Les nouvelles humanistes seront présentées de 19h à 19h15. La conférence proprement dite commencera vers 19h30. Comme d’habitude\, il y aura une période de question. \nLa conférence sera disponible en mode hybride via Zoom. Pour participer à distance\, y compris à la période de questions\, il faudra avoir payé l’entrée (avant  jeudi 16 mars à midi par une carte de crédit en utilisant Paypal. Un lien Zoom vous sera envoyé par courriel. \nFrais de participation (locale ou à distance) : 8$ membre\, 13$ non-membre. \n\n\n\n\n\n\n\n\n\n\n\n  \n\n\n\n\n\n\n\n\n			\n			\n				\n				\n				\n				\n				\n				\n				\n				\n				\n				\n			\n			\n				\n				\n				\n				\n			\n				\n				\n				\n				\n				\n				\n				\n				\n				\n				\n				\n      \n        \n          Tarif Membre 8$  \n          Tarif membre 8$ - 8 CADTarif non-membre 13$ - 13 CAD\n          \n        \n      \n      \n    \n    \n    \n			\n			\n				\n				\n				\n				\n				\n				\n				\n				\n				\n				  \n  \nSi vous avez un compte Paypal\, utiisez le bouton jaune\, sinon utilisez le bouton noir « Débit ou crédit ». \n  \n			\n			\n				\n				\n				\n				\n			\n				\n				\n				\n				\n				\n				\n				\n				\n				\n				\n				IMPORTANT : Vous aimeriez venir avec une personne qui n’a pas reçu cette invitation ? Veuillez nous fournir son nom et son adresse courriel pour nous permettre de lui en faire parvenir une. Vous pouvez devenir membre sur place (25 $ par an) ou par Paypal sur notre site web. \nAu plaisir de vous y rencontrer\, \nMichel Virard\, coordinateur ciné-club et conférences \nL’AHQ fonctionne uniquement avec des bénévoles et tout l’argent recueilli va à la programmation de conférences\, de ciné-clubs et de publications humanistes. Un don\, même minime\, est la preuve indiscutable que vous appréciez ce que nous faisons et nous encourage non seulement à continuer mais à concevoir de nouvelles façons de rejoindre nos amis humanistes. \n(Notez que l’AHQ émet des reçus de charité pour les dons dont la somme annuelle égale ou dépasse 35 $) \n  \n			\n				Faire un don
URL:https://assohum.org/activites/conference-robert-gilbert-dieu-nexiste-pas/
LOCATION:Centre humaniste du Québec\, 1225 St-Joseph est\, Montréal\, Québec\, H2J 2L7\, Canada
CATEGORIES:Conférences
ATTACH;FMTTYPE=image/jpeg:https://assohum.org/wp-content/uploads/2023/04/Dieu-nexiste-pas.jpg
END:VEVENT
END:VCALENDAR