BEGIN:VCALENDAR
VERSION:2.0
PRODID:-//Association humaniste du Québec - ECPv6.15.17//NONSGML v1.0//EN
CALSCALE:GREGORIAN
METHOD:PUBLISH
X-ORIGINAL-URL:https://assohum.org
X-WR-CALDESC:Évènements pour Association humaniste du Québec
REFRESH-INTERVAL;VALUE=DURATION:PT1H
X-Robots-Tag:noindex
X-PUBLISHED-TTL:PT1H
BEGIN:VTIMEZONE
TZID:America/New_York
BEGIN:DAYLIGHT
TZOFFSETFROM:-0500
TZOFFSETTO:-0400
TZNAME:EDT
DTSTART:20220313T070000
END:DAYLIGHT
BEGIN:STANDARD
TZOFFSETFROM:-0400
TZOFFSETTO:-0500
TZNAME:EST
DTSTART:20221106T060000
END:STANDARD
BEGIN:DAYLIGHT
TZOFFSETFROM:-0500
TZOFFSETTO:-0400
TZNAME:EDT
DTSTART:20230312T070000
END:DAYLIGHT
BEGIN:STANDARD
TZOFFSETFROM:-0400
TZOFFSETTO:-0500
TZNAME:EST
DTSTART:20231105T060000
END:STANDARD
BEGIN:DAYLIGHT
TZOFFSETFROM:-0500
TZOFFSETTO:-0400
TZNAME:EDT
DTSTART:20240310T070000
END:DAYLIGHT
BEGIN:STANDARD
TZOFFSETFROM:-0400
TZOFFSETTO:-0500
TZNAME:EST
DTSTART:20241103T060000
END:STANDARD
END:VTIMEZONE
BEGIN:VEVENT
DTSTART;TZID=America/New_York:20230316T190000
DTEND;TZID=America/New_York:20230316T210000
DTSTAMP:20260423T051739
CREATED:20230203T203424Z
LAST-MODIFIED:20230313T165827Z
UID:21596-1678993200-1679000400@assohum.org
SUMMARY:Conférence Pierre Joncas
DESCRIPTION:Pierre Joncas proposera d’abord une analyse des rapports entre la liberté de conscience et la liberté de religion. Il cherchera à montrer que la première doit jouir de la préséance de la seconde. Il examinera ensuite le problème de l’autorité des chefs religieux sur les fidèles. Il conclura que chaque fidèle est seul détenteur de sa liberté religieuse\, que le chef religieux ne doit jamais disposer du pouvoir de le contraindre d’accepter des dogmes ou de se soumettre à des commandements incompatibles avec les exigences de sa conscience. \nIl évoquera ensuite le progrès grâce à l’initiative\, à partir des années 1960\, du Mouvement laïque de langue française (MLF) de l’acceptation au Québec du principe de la laïcité des institutions étatiques\, et la transformation du Québec\, imputable à l’immigration\, de société à forte prédominance catholique à société multiconfessionnelle. Les raisons de principe mises de l’avant et défendues par le MLF et l’évolution démographique vers la diversité confessionnelle ont rendu plus urgentes que jamais la reconnaissance du principe de la laïcité des institutions étatiques. Ces raisons et ces circonstances justifient amplement l’adoption de la loi 21 sur la laïcité de l’État et l’invocation des dispositions dérogatoires des chartes pour l’immuniser contre d’éventuelles contestations devant les tribunaux. Les critiques de la loi\, soutient-il\, sont mal éclairées et injustes. \nCompte tenu des éléments irrationnels de la nature humaine\, du fait que\, « le cœur [ayant] ses raisons que la raison ne connaît point »\, les religions charrient un lourd bagage émotif\, compte tenu aussi du fait que des extrémistes ont de plus en plus recours à la violence pour riposter contre les attaques à l’endroit de leurs symboles religieux\, il met en garde contre l’exercice irresponsable de la liberté d’expression\, mais sans contester la légitimité de critiques raisonnées et respectueuses de croyances (dogmes\, morale\, rites\, etc.). Pour illustrer\, il évoque la tragédie\, en janvier 2015\, de l’assaut contre les locaux de Charlie Hebdo et ailleurs. \nEnfin\, et pour souligner l’importance qu’il attache à l’exercice responsable de la liberté d’expression\, il évoque le procès de l’« humoriste » Mike Ward pour ses moqueries\, en spectacle\, du jeune Jérémy Gabriel. \nBref\, au cœur de ses propos est la conviction de Pierre Joncas que l’exercice de toute liberté est accompagné de responsabilités. \nFormé au Collège Stanislas de Montréal et à la Faculté des Sciences sociales de l’Université Laval\, Pierre Joncas a fait carrière dans la fonction publique fédérale. Vivant à Montréal\, il fait bon usage de sa retraite\, cultivant les délices de l’amitié ainsi que les plaisirs de la réflexion\, de la lecture et de l’écriture. Il a collaboré à diverses revues\, dont Cité Libre\, Combats\, Inroads et Possibles. Il est l’auteur de Une réconciliation durable est-elle à la portée du Canada? et de Les accommodements raisonnables: entre Hérouxville et Outremont. La liberté de religion dans un État de droit\, tous deux publiés par les Presses de l’Université Laval. \n			\n			\n				\n				\n				\n				\n			\n				\n				\n				\n				\n				\n				\n				\n				\n				\n				\n				\n\n\n\n\n \n\n\n\n\n\n\n\n\n\n\n\n\n\n\n\nOù ? Au Centre humaniste du Québec\, 1225 boulevard St-Joseph Est\, salle 101. \nQuand ? Le jeudi 16 mars 2023 à partir de 19h.  Vous devez réserver à reservation@assohum.org (pas d’accent sur «reservation»). Les portes seront ouvertes à 18h 30. Les nouvelles humanistes seront présentées de 19h à 19h15. La conférence proprement dite commencera à 19h15. Comme d’habitude\, il y aura une période de question. \n\n\n\n\n\n\n\n\n\n\n \nLa conférence sera disponible en mode hybride via Zoom. Pour participer à distance\, y compris à la période de questions\, il faudra avoir payé l’entrée (avant  jeudi 16 mars à midi par une carte de crédit en utilisant Paypal. Un lien Zoom vous sera envoyé par courriel. \nFrais de participation (locale ou à distance) : 8$ membre\, 13$ non-membre. \n\n\n\n\n\n\n\n\n			\n			\n				\n				\n				\n				\n				\n				\n				\n				\n				\n				\n			\n			\n				\n				\n				\n				\n			\n				\n				\n				\n				\n				\n				\n				\n				\n				\n				\n				\n      \n        \n          Tarif Membre 8$  \n          Tarif membre 8$ - 8 CADTarif non-membre 13$ - 13 CAD\n          \n        \n      \n      \n    \n    \n    \n			\n			\n				\n				\n				\n				\n				\n				\n				\n				\n				\n				  \n  \nSi vous avez un compte Paypal\, utiisez le bouton jaune\, sinon utilisez le bouton noir « Débit ou crédit ». \n  \n			\n			\n				\n				\n				\n				\n			\n				\n				\n				\n				\n				\n				\n				\n				\n				\n				\n				IMPORTANT : Vous aimeriez venir avec une personne qui n’a pas reçu cette invitation ? Veuillez nous fournir son nom et son adresse courriel pour nous permettre de lui en faire parvenir une. Vous pouvez devenir membre sur place (25 $ par an) ou par Paypal sur notre site web. \nAu plaisir de vous y rencontrer\, \nMichel Virard\, coordinateur ciné-club et conférences \nL’AHQ fonctionne uniquement avec des bénévoles et tout l’argent recueilli va à la programmation de conférences\, de ciné-clubs et de publications humanistes. Un don\, même minime\, est la preuve indiscutable que vous appréciez ce que nous faisons et nous encourage non seulement à continuer mais à concevoir de nouvelles façons de rejoindre nos amis humanistes. \n(Notez que l’AHQ émet des reçus de charité pour les dons dont la somme annuelle égale ou dépasse 35 $) \n  \n			\n				Faire un don
URL:https://assohum.org/activites/conference-pierre-joncas/
LOCATION:CHQ + Zoom\, 101-1225 boulevard St-Joseph Est\, Montreal\, Québec\, H2J1L7\, Canada
CATEGORIES:Conférences,Événement hybride
ATTACH;FMTTYPE=image/jpeg:https://assohum.org/wp-content/uploads/2023/03/Pierre-Joncas.4-e1678473335266.jpg
END:VEVENT
END:VCALENDAR