BEGIN:VCALENDAR
VERSION:2.0
PRODID:-//Association humaniste du Québec - ECPv6.15.17//NONSGML v1.0//EN
CALSCALE:GREGORIAN
METHOD:PUBLISH
X-ORIGINAL-URL:https://assohum.org
X-WR-CALDESC:Évènements pour Association humaniste du Québec
REFRESH-INTERVAL;VALUE=DURATION:PT1H
X-Robots-Tag:noindex
X-PUBLISHED-TTL:PT1H
BEGIN:VTIMEZONE
TZID:America/New_York
BEGIN:DAYLIGHT
TZOFFSETFROM:-0500
TZOFFSETTO:-0400
TZNAME:EDT
DTSTART:20200308T070000
END:DAYLIGHT
BEGIN:STANDARD
TZOFFSETFROM:-0400
TZOFFSETTO:-0500
TZNAME:EST
DTSTART:20201101T060000
END:STANDARD
BEGIN:DAYLIGHT
TZOFFSETFROM:-0500
TZOFFSETTO:-0400
TZNAME:EDT
DTSTART:20210314T070000
END:DAYLIGHT
BEGIN:STANDARD
TZOFFSETFROM:-0400
TZOFFSETTO:-0500
TZNAME:EST
DTSTART:20211107T060000
END:STANDARD
BEGIN:DAYLIGHT
TZOFFSETFROM:-0500
TZOFFSETTO:-0400
TZNAME:EDT
DTSTART:20220313T070000
END:DAYLIGHT
BEGIN:STANDARD
TZOFFSETFROM:-0400
TZOFFSETTO:-0500
TZNAME:EST
DTSTART:20221106T060000
END:STANDARD
END:VTIMEZONE
BEGIN:VEVENT
DTSTART;TZID=America/New_York:20210923T190000
DTEND;TZID=America/New_York:20210923T210000
DTSTAMP:20260424T144220
CREATED:20210917T185340Z
LAST-MODIFIED:20211002T134720Z
UID:19234-1632423600-1632430800@assohum.org
SUMMARY:Conférence de Michel Belley
DESCRIPTION:(en salle ET sur Internet)\nEnvironnement et réchauffement climatique\nLe nucléaire serait-il la solution ?\nL’humanité fait face à de nombreux défis sur les plans humains et environnementaux: santé\, pollution\, réchauffement climatique\, disparition des espèces\, surpopulation humaine\, etc. Par contre\, contrairement à ce qui est popularisé par les médias\, les progrès actuels ont amélioré la vie humaine dans tous ses aspects. Même sur le plan environnemental\, des progrès énormes ont été accomplis depuis quelques dizaines d’années\, progrès qui sont la plupart du temps sous-estimés.\n\nPar ailleurs\, le réchauffement climatique anthropique est très préoccupant\, et des mesures concrètes doivent être entreprises à l’échelle mondiale\, sans quoi on devra s’attendre à d’énormes changements climatiques. Non seulement doit-on diminuer les émissions de CO2\, mais on doit aussi trouver des moyens de le trapper pour inverser la tendance. Nous devons remplacer les sources d’énergie fossile\, et seule l’énergie nucléaire semble pouvoir le faire rapidement\, à l’échelle mondiale\, à moindre couts. Les sources d’énergie renouvelables peuvent aussi jouer un rôle important\, mais elles ont de gros désavantages qui empêchent leur utilisation à grande échelle. Le Québec\, avec son hydroélectricité\, présente cependant une problématique différente.\n\nLe faible impact annuel de l’électrification des transports sera aussi souligné.\n\nMichel Belley est détenteur d’un BSc en biochimie (1982)\, et d’une maitrise en chimie (1984). Il a travaillé pendant 26 ans dans le domaine pharmaceutique\, dont 24 ans chez Merck Frosst\, pour la recherche de nouveaux médicaments. Depuis deux ans\, il est président du CA des Sceptiques du Québec et rédacteur en chef de la revue Le Québec sceptique.\nDEUX MODES DE PARTICIPATION\nOù ? VIA INTERNET OU EN SALLE\n\nL’AHQ innove avec un mode hybride pour présenter ses conférences: la conférence en salle sera retransmise en temps réel via WireCast et Zoom. Cela permettra une connexion réelle entre la participation en salle et la participation à distance. Il sera possible de non seulement poser de vive voix des questions à distance mais de se présenter non seulement aux autres participants Zoom mais aussi aux participants en salle. Cette fonction est réalisée via un second écran de projection ainsi que des haut-parleurs dédiés à cette forme de téléprésence.\n\nVous avez donc un choix à faire:\n\n\n\n1-Soit la conférence en salle\, payante: 5$ membre\, 10$ non-membre. Il faudra présenter une preuve de vaccination et la capacité de la salle est limitée à 20 personnes.\n\nDirectives du gouvernement du Québec: Auditoires et audiences (salles de spectacle) Depuis le 1er septembre 2021\, les personnes qui souhaitent fréquenter ces établissements doivent présenter leur passeport vaccinal. Une distance d’un siège entre les personnes qui ne résident pas à une même adresse doit être respectée. La surveillance des accès et des lieux est requise\, de même que les réservations. Le couvre-visage est obligatoire dans les lieux intérieurs\, mais il peut être retiré lorsque la personne est assise. Les personnes doivent alors demeurer silencieuses ou parler à voix basse.\n\nQuand ? Le jeudi 23 septembre 2021 à partir de 19h (heure avancée de l’Est).  Vous devez réserver à reservation@assohum.org (pas d’accent sur «reservation») en précisant «En salle». Les participants en salle bénéficieront de certains privilèges. Les portes seront ouvertes à 18h 30. Les nouvelles humanistes seront présentée de 19h à 19h15. La conférence proprement dite commencera à 19h15.\n\n\n\n2-Soit la conférence via Internet (Zoom)\, encore gratuite cette fois-ci mais vous devez réserver à reservation@assohum.org (pas d’accent sur «reservation») en précisant «par Internet».\n\nSur Internet\, via Zoom. Avec la confirmation de réservation vous recevrez le lien. SVP utilisez votre vrai nom sur Zoom car nous ne sommes pas en mesure de faire le lien entre un pseudo Zoom fantaisiste et le nom enregistré avec la réservation et vous risqueriez de ne pas être admis.\n\nQuand ? Le jeudi 23 septembre 2021 à partir de 19h (heure avancée de l’Est). Vous pourrez échanger avec les autres participants à micro ouvert entre 18h30 et 19h00 et aussi régler les questions techniques. La conférence proprement dite commencera à 19h15. Il y aura une période de questions après la conférence. Utilisez la fonction «main levée» du bouton «réactions» dans votre fenêtre Zoom pour pouvoir poser une question.\n\nLa conférence via Internet est gratuite mais les frais pour créer un événement hybride tel que celui-ci sont significatifs. L’AHQ fonctionne uniquement avec des bénévoles et tout l’argent recueilli va à la programmation de conférences\, de ciné-clubs et de publications humanistes.\n\nUn don\, même minime\, est la preuve indiscutable que vous appréciez ce que nous faisons et nous encourage à continuer.\n\nPour le comité des conférences AHQ\n\nMichel Virard\, coordinateur conférences et ciné-clubs.
URL:https://assohum.org/activites/19234/
LOCATION:Centre humaniste du Québec\, 1225 St-Joseph est\, Montréal\, Québec\, H2J 2L7\, Canada
CATEGORIES:Conférences
ATTACH;FMTTYPE=image/jpeg:https://assohum.org/wp-content/uploads/2021/02/Michel-Belley.jpg
END:VEVENT
END:VCALENDAR