BEGIN:VCALENDAR
VERSION:2.0
PRODID:-//Association humaniste du Québec - ECPv6.15.17//NONSGML v1.0//EN
CALSCALE:GREGORIAN
METHOD:PUBLISH
X-ORIGINAL-URL:https://assohum.org
X-WR-CALDESC:Évènements pour Association humaniste du Québec
REFRESH-INTERVAL;VALUE=DURATION:PT1H
X-Robots-Tag:noindex
X-PUBLISHED-TTL:PT1H
BEGIN:VTIMEZONE
TZID:America/New_York
BEGIN:DAYLIGHT
TZOFFSETFROM:-0500
TZOFFSETTO:-0400
TZNAME:EDT
DTSTART:20200308T070000
END:DAYLIGHT
BEGIN:STANDARD
TZOFFSETFROM:-0400
TZOFFSETTO:-0500
TZNAME:EST
DTSTART:20201101T060000
END:STANDARD
BEGIN:DAYLIGHT
TZOFFSETFROM:-0500
TZOFFSETTO:-0400
TZNAME:EDT
DTSTART:20210314T070000
END:DAYLIGHT
BEGIN:STANDARD
TZOFFSETFROM:-0400
TZOFFSETTO:-0500
TZNAME:EST
DTSTART:20211107T060000
END:STANDARD
BEGIN:DAYLIGHT
TZOFFSETFROM:-0500
TZOFFSETTO:-0400
TZNAME:EDT
DTSTART:20220313T070000
END:DAYLIGHT
BEGIN:STANDARD
TZOFFSETFROM:-0400
TZOFFSETTO:-0500
TZNAME:EST
DTSTART:20221106T060000
END:STANDARD
END:VTIMEZONE
BEGIN:VEVENT
DTSTART;TZID=America/New_York:20210617T190000
DTEND;TZID=America/New_York:20210617T210000
DTSTAMP:20260424T200154
CREATED:20210608T213020Z
LAST-MODIFIED:20210611T221345Z
UID:18959-1623956400-1623963600@assohum.org
SUMMARY:Conférence par Robert Dôle - Deux philosophes allemands schizophrènes : Friedrich Nietzsche et Paul Tillich
DESCRIPTION:Deux philosophes allemands schizophrènes : \nFriedrich Nietzsche et Paul Tillich\n \nFriedrich Nietzsche (1844-1900) et Paul Tillich (1886-1965) avaient beaucoup d’éléments en commun.  Ils étaient tous les deux des philosophes allemands qui s’intéressaient beaucoup à la religion.  Ils étaient tous les deux fils d’un pasteur luthérien.  Ils avaient fait tous les deux des études classiques approfondies.  Ils avaient lu les grands philosophes\, théologiens et poètes de la civilisation occidentale.  Les deux connaissaient les langues latine\, grecque et française.  Nietzsche était considéré le plus grand philosophe allemand de son temps\, et Tillich avait la réputation d’être le « plus grand théologien depuis Augustin » (Calí\, 1995\, p. 5) (ma traduction). \nPourtant ce qui est le plus remarquable est le fait que les deux hommes fussent schizophrènes.  Nous savons que Nietzsche passa les onze dernières années de sa vie dans un état psychotique sans aucune autonomie.  Il était confiné d’abord dans un hôpital psychiatrique et ensuite chez sa sœur.  En 1989 est paru le livre Zarathustras Geheimnis (Le Secret de Zarathoustra) de Joachim Köhler qui révèle que Nietzsche était homosexuel.  En 2021 j’ai publié un article intitulé « Friedrich Nietzsche’s Homosexuality and Schizophrenia » dans lequel je fais l’hypothèse que la cause de la schizophrénie de Nietzsche était la répression de son homosexualité.  Freud\, qui croyait que la répression sexuelle constitue l’origine typique des psychoses\, révéla au monde en 1908 que Nietzsche était homosexuel (Köhler\, 2002\, p. 214). \nEn 1995\, trente ans après la mort de Tillich\, son ancienne secrétaire à Harvard\, Grace Calí publiait un livre qui raconte sa collaboration avec Tillich et qui révèle que Tillich lui avait confié qu’il se savait schizophrène (Calí\, 1995\, p. 20).  En effet\, lorsque Tillich travaillait comme aumônier auprès des soldats allemands protestants pendant la Première Guerre mondiale\, il a été hospitalisé pour une maladie mentale à deux reprises\, en 1916 et en 1918.  Selon moi\, sa théologie était basée jusqu’à un certain point sur son expérience de la schizophrénie et sur son idée que Jésus aussi était schizophrène.  Afin de protéger sa carrière dans les universités américaines\, Tillich était obligé de cacher les grands secrets de sa vie : sa schizophrénie\, son marxisme\, son patriotisme allemand et ses aventures adultères. \nTillich et Nietzsche ont tous les deux livré des récits d’une vision béatifique qui rappellent celle de Blaise Pascal qu’il appelait « Le Mémorial » (Pascal\, 1961\, p. 71)  (Nietzsche\, 2012\, p. 945).  Que le philosophe qui avait annoncé la mort de Dieu fût visité par Dieu un an avant de sombrer dans la psychose est certainement le plus grand paradoxe de la philosophie moderne.  Il va sans dire que toute vision béatifique est aussi une hallucination schizophrène. \nRobert Dôle \n\nRéférences \nCalí\, G.  (1995).  Paul Tillich First-Hand : A Memoir of the Harvard Years.  Chicago : Exploration Press.\nDole\, R. (2019).  « Friedrich Nietzsche’s Homosexuality and Schizophrenia ».  Journal of Literature and Art Studies.  New York\, Volume 9\, Number 4\, pp. 1450-1452.\nKöhler\, J. (2002).  Zarathustra’s Secret.  New Haven : Yale University Press.  (Traduction de Zarathustras Geheimnis\, 1989\, Hamburg : Rowohlt Taschenbuch Verlag).\nNietzsche\, F. (2012).  Gesammelte Werke.  Cologne : Anaconda Verlag.\nPascal\, B.  (1961).  Pensées.  Paris : Garnier Frères.\nLa conférence virtuelle est gratuite mais vous devez réserver à reservation@assohum.org (pas d’accent sur «reservation»). \nOù ? Sur Internet\, via Zoom. Avec la confirmation de réservation vous recevrez le lien. SVP utilisez votre vrai nom sur Zoom car nous ne sommes pas en mesure de faire le lien entre un pseudo Zoom et le nom enregistré avec la réservation et vous risqueriez de ne pas être admis. \nQuand ? Le jeudi 17 juin 2021 à partir de 19h (heure avancée de l’Est). Vous pourrez échanger avec les autres participants à micro ouvert entre 19h et 19h30 et aussi régler les questions techniques. La conférence proprement dite commencera à 19h30. Il y aura une période de questions après la conférence. Utilisez la fonction «main levée» du bouton «réactions» dans votre fenêtre Zoom pour pouvoir poser une question. \nCette conférence est gratuite mais les frais pour créer un événement sont bien réels et non virtuels. L’AHQ fonctionne uniquement avec des bénévoles et tout l’argent recueilli va à la programmation de conférences\, de ciné-clubs et de publications humanistes. \nUn don\, même minime\, est la preuve indiscutable que vous appréciez ce que nous faisons et nous encourage à continuer. \nPour le comité des conférences AHQ \nMichel Virard\, coordinateur conférences et ciné-clubs.
URL:https://assohum.org/activites/conference-par-robert-dole/
LOCATION:Via Zoom
CATEGORIES:Conférences
ATTACH;FMTTYPE=image/jpeg:https://assohum.org/wp-content/uploads/2021/06/IMG_1250-scaled.jpg
END:VEVENT
END:VCALENDAR