BEGIN:VCALENDAR
VERSION:2.0
PRODID:-//Association humaniste du Québec - ECPv6.15.17//NONSGML v1.0//EN
CALSCALE:GREGORIAN
METHOD:PUBLISH
X-WR-CALNAME:Association humaniste du Québec
X-ORIGINAL-URL:https://assohum.org
X-WR-CALDESC:Évènements pour Association humaniste du Québec
REFRESH-INTERVAL;VALUE=DURATION:PT1H
X-Robots-Tag:noindex
X-PUBLISHED-TTL:PT1H
BEGIN:VTIMEZONE
TZID:America/New_York
BEGIN:DAYLIGHT
TZOFFSETFROM:-0500
TZOFFSETTO:-0400
TZNAME:EDT
DTSTART:20240310T070000
END:DAYLIGHT
BEGIN:STANDARD
TZOFFSETFROM:-0400
TZOFFSETTO:-0500
TZNAME:EST
DTSTART:20241103T060000
END:STANDARD
BEGIN:DAYLIGHT
TZOFFSETFROM:-0500
TZOFFSETTO:-0400
TZNAME:EDT
DTSTART:20250309T070000
END:DAYLIGHT
BEGIN:STANDARD
TZOFFSETFROM:-0400
TZOFFSETTO:-0500
TZNAME:EST
DTSTART:20251102T060000
END:STANDARD
BEGIN:DAYLIGHT
TZOFFSETFROM:-0500
TZOFFSETTO:-0400
TZNAME:EDT
DTSTART:20260308T070000
END:DAYLIGHT
BEGIN:STANDARD
TZOFFSETFROM:-0400
TZOFFSETTO:-0500
TZNAME:EST
DTSTART:20261101T060000
END:STANDARD
END:VTIMEZONE
BEGIN:VEVENT
DTSTART;TZID=America/New_York:20250322T153000
DTEND;TZID=America/New_York:20250322T170000
DTSTAMP:20260422T093442
CREATED:20250305T165501Z
LAST-MODIFIED:20250307T205825Z
UID:23898-1742657400-1742662800@assohum.org
SUMMARY:Assemblée générale annuelle 2025
DESCRIPTION:Assemblée générale annuelle des membres (AGA) 2025 \n(et Agapes du printemps 2025) \nLe Conseil d’administration de l’AHQ a décidé de tenir l’Assemblée générale des membres au Centre humaniste du Québec ET par Internet avec l’application Zoom le \nSamedi 22 mars 2025 à 15:30h.  \nLes agapes de printemps suivront à 18h. \nLa session Zoom sera ouverte dès 15h00 afin de venir en aide aux membres non familiers avec Zoom. Pour participer\, il vous faut installer l’application Zoom.us et être membre AHQ en règle. Vous pouvez la télécharger maintenant à https://zoom.us/download et utiliser le lien Zoom qui vous sera envoyé avant l’AGA SI VOUS EN FAITES LA DEMANDE PAR COURRIEL à reservation@assohum.org (sans accent). \nSi votre adhésion est échue\, il vous sera possible de régulariser votre situation\, en présence ou à distance avant le début de la séance. \nORDRE DU JOUR AGM 2025 \n1. Vérification des présences et qualifications \n2. Ouverture de l’Assemblée par le président sortant \n3. Désignation d’un secrétaire d’assemblée \n4. Lecture et adoption de l’ordre du jour (ce document). \n5. Lecture et adoption du procès-verbal de l’assemblée générale annuelle du 23 mars 2024 * \n6. Lecture et adoption du rapport du président sortant pour l’année 2024\, * \n7. Lecture et adoption des états financiers au 31 décembre 2024. * \n8. Varia \n9. Élection des nouveaux administrateurs \n10. Levée de l’Assemblée. \n* Tous ces documents seront accessibles sur notre site web dans la « page réservée aux membres » à partir du samedi 15 mars. \nBien que les agapes suivent l’assemblée générale\, les deux événements sont indépendants l’un de l’autre. SVP indiquez votre présence à l’AGM en réservant à reservation@assohum.org ET en indiquant si vous assisterez en présence ou via Zoom. \nMichel Virard\, président
URL:https://assohum.org/activites/assemblee-generale-annuelle-2025/
LOCATION:CHQ + Zoom\, 101-1225 boulevard St-Joseph Est\, Montreal\, Québec\, H2J1L7\, Canada
CATEGORIES:AGM
END:VEVENT
END:VCALENDAR